BEGIN:VCALENDAR
VERSION:2.0
PRODID:-//Careers Beyond Academia - ECPv6.15.20//NONSGML v1.0//EN
CALSCALE:GREGORIAN
METHOD:PUBLISH
X-WR-CALNAME:Careers Beyond Academia
X-ORIGINAL-URL:https://gradcareers.cornell.edu
X-WR-CALDESC:Events for Careers Beyond Academia
REFRESH-INTERVAL;VALUE=DURATION:PT1H
X-Robots-Tag:noindex
X-PUBLISHED-TTL:PT1H
BEGIN:VTIMEZONE
TZID:America/New_York
BEGIN:DAYLIGHT
TZOFFSETFROM:-0500
TZOFFSETTO:-0400
TZNAME:EDT
DTSTART:20230312T070000
END:DAYLIGHT
BEGIN:STANDARD
TZOFFSETFROM:-0400
TZOFFSETTO:-0500
TZNAME:EST
DTSTART:20231105T060000
END:STANDARD
BEGIN:DAYLIGHT
TZOFFSETFROM:-0500
TZOFFSETTO:-0400
TZNAME:EDT
DTSTART:20240310T070000
END:DAYLIGHT
BEGIN:STANDARD
TZOFFSETFROM:-0400
TZOFFSETTO:-0500
TZNAME:EST
DTSTART:20241103T060000
END:STANDARD
BEGIN:DAYLIGHT
TZOFFSETFROM:-0500
TZOFFSETTO:-0400
TZNAME:EDT
DTSTART:20250309T070000
END:DAYLIGHT
BEGIN:STANDARD
TZOFFSETFROM:-0400
TZOFFSETTO:-0500
TZNAME:EST
DTSTART:20251102T060000
END:STANDARD
END:VTIMEZONE
BEGIN:VEVENT
DTSTART;TZID=America/New_York:20241122T160000
DTEND;TZID=America/New_York:20241122T200000
DTSTAMP:20260423T085932
CREATED:20241119T204656Z
LAST-MODIFIED:20241122T172133Z
UID:10002623-1732291200-1732305600@gradcareers.cornell.edu
SUMMARY:Day of Dialogue: Communication and Self-Support in a Polarized World
DESCRIPTION:The unifying goal of this event is to equip students with the skillset to navigate our increasingly polarized world. On behalf of the GPSA and organizing partners\, please join a panel of Cornell-based professionals to discuss politics\, policy\, and communication during times of polarization. Your feedback on depolarizing campus is solicited during the GPSA open forum\, and welcome your participation in the workshops on discussing the personal impacts of polarization\, and addressing misinformation. \nCome to any or all of the events open to the Cornell community. Food provided! The event is composed of sub-events run by the collaborating organizations\, and you are welcome to attend all or a selection of them. \nRegister now\n4:00 p.m From Conflict to Conversation – Civility in an Era of Polarization\n\nIntroductions and messages from organizers\nMessage from Cornell Political Union (CPU)\n\n4:20 p.m Empathy and Active Listening during Polarized Dynamics\n• Mental Health Workshop presented by EARS × CPU \n5:20 p.m Navigating a Polarized World: Insights Across Politics\, Policy\, Communication\, and Misinformation\n\nPanel featuring Prof. Richard Bensel (Government)\, Prof. Dan Lamb (Public Policy)\, Dr. Kara Rode Webber (Vaccination Conversations with Scientists)\, Prof. Jeff Niederdeppe (Communication)\nPanel co-hosted by CPU\n\n6:10 p.m. dinner (Chipotle)\n6:30 p.m Confronting a Polarized Campus\n• Listening Session with the GPSA \n7:00 p.m Using Compassionate Conversations to Stop Misinformation: Strategies and Lessons Learned from Vaccination Conversations with Scientists\n•Workshop presented by Kara Rode Webber\, PhD \n•Drop-In Session parallel to Workshop: EARS Drop-In Peer Listening \n7:45 p.m. light reception\nRegistration: https://cglink.me/2ee/r2277455 Location is to be confirmed at a central location on campus. \nHosts\nThe event is co-hosted by the mental health group EARS (Empathy\, Assistance and Referral Service)\, the graduate advocacy group VaCS (Vaccination Conversations with Scientists)\, the Cornell Political Union\, and the student government group GPSA (Graduate and Professional Student Assembly).
URL:https://gradcareers.cornell.edu/event/day-of-dialogue-communication-and-self-support-in-a-polarized-world/
LOCATION:120 Physical Sciences Building\, 245 East Ave\, Ithaca\, NY\, 14853\, United States
ATTACH;FMTTYPE=image/jpeg:https://gradcareers.cornell.edu/wp-content/uploads/2024/11/Day-of-Dialog-flyer.jpg
GEO:42.449856;-76.4818233
X-APPLE-STRUCTURED-LOCATION;VALUE=URI;X-ADDRESS=120 Physical Sciences Building 245 East Ave Ithaca NY 14853 United States;X-APPLE-RADIUS=500;X-TITLE=245 East Ave:geo:-76.4818233,42.449856
END:VEVENT
END:VCALENDAR