BEGIN:VCALENDAR
VERSION:2.0
PRODID:-//Careers Beyond Academia - ECPv6.15.20//NONSGML v1.0//EN
CALSCALE:GREGORIAN
METHOD:PUBLISH
X-ORIGINAL-URL:https://gradcareers.cornell.edu
X-WR-CALDESC:Events for Careers Beyond Academia
REFRESH-INTERVAL;VALUE=DURATION:PT1H
X-Robots-Tag:noindex
X-PUBLISHED-TTL:PT1H
BEGIN:VTIMEZONE
TZID:America/New_York
BEGIN:DAYLIGHT
TZOFFSETFROM:-0500
TZOFFSETTO:-0400
TZNAME:EDT
DTSTART:20240310T070000
END:DAYLIGHT
BEGIN:STANDARD
TZOFFSETFROM:-0400
TZOFFSETTO:-0500
TZNAME:EST
DTSTART:20241103T060000
END:STANDARD
BEGIN:DAYLIGHT
TZOFFSETFROM:-0500
TZOFFSETTO:-0400
TZNAME:EDT
DTSTART:20250309T070000
END:DAYLIGHT
BEGIN:STANDARD
TZOFFSETFROM:-0400
TZOFFSETTO:-0500
TZNAME:EST
DTSTART:20251102T060000
END:STANDARD
BEGIN:DAYLIGHT
TZOFFSETFROM:-0500
TZOFFSETTO:-0400
TZNAME:EDT
DTSTART:20260308T070000
END:DAYLIGHT
BEGIN:STANDARD
TZOFFSETFROM:-0400
TZOFFSETTO:-0500
TZNAME:EST
DTSTART:20261101T060000
END:STANDARD
END:VTIMEZONE
BEGIN:VEVENT
DTSTART;VALUE=DATE:20250131
DTEND;VALUE=DATE:20250201
DTSTAMP:20260423T053919
CREATED:20241122T142201Z
LAST-MODIFIED:20241125T165028Z
UID:10002625-1738281600-1738367999@gradcareers.cornell.edu
SUMMARY:Animal Health Hackathon
DESCRIPTION:This interdisciplinary event has all your favorite things about hackathons. Networking with Mentors and sponsoring companies\, food\, merch\, workshops\, meeting other Students and $9\,000 in cash prizes for winning teams. \nALL STUDENTS ARE WELCOME AND INVITED TO PARTICIPATE! \nThis event is brought to you by the Center for Veterinary Business and Entrepreneurship with support from Triad Foundation\, Purina Pro Blan\, Care Credit\, Veritas Veterinary Parnters\, Zoetis\, Idexx\, VPP\, Destination Pet\, Encore Vet Group\, Boehringer Ingelheim\, & VetTriage. \nEvent runs: Friday January 31 (5pm-9:15pm)\, Saturday February 2nd (9am-8pm) and Sunday Feb 4th (9am-3pm)\nThis only happens once a year\, don’t miss your chance to experience it! You deserve this! SIGN UP ASAP- this event will fill and a waitlist will form at least a week prior. Participation limited to 125 students. \nRegister now to participate\nLearn more now \nCornell’s College of Veterinary Medicine\, in partnership with the Center for Veterinary Business & Entrepreneurship\, and Entrepreneurship at Cornell\, is pleased to host this annual (and very popular) hackathon for the 9th year in a row!
URL:https://gradcareers.cornell.edu/event/animal-health-hackathon-2/
LOCATION:Schurman Hall
END:VEVENT
END:VCALENDAR