BEGIN:VCALENDAR
VERSION:2.0
PRODID:-//Careers Beyond Academia - ECPv6.15.20//NONSGML v1.0//EN
CALSCALE:GREGORIAN
METHOD:PUBLISH
X-WR-CALNAME:Careers Beyond Academia
X-ORIGINAL-URL:https://gradcareers.cornell.edu
X-WR-CALDESC:Events for Careers Beyond Academia
REFRESH-INTERVAL;VALUE=DURATION:PT1H
X-Robots-Tag:noindex
X-PUBLISHED-TTL:PT1H
BEGIN:VTIMEZONE
TZID:America/New_York
BEGIN:DAYLIGHT
TZOFFSETFROM:-0500
TZOFFSETTO:-0400
TZNAME:EDT
DTSTART:20240310T070000
END:DAYLIGHT
BEGIN:STANDARD
TZOFFSETFROM:-0400
TZOFFSETTO:-0500
TZNAME:EST
DTSTART:20241103T060000
END:STANDARD
BEGIN:DAYLIGHT
TZOFFSETFROM:-0500
TZOFFSETTO:-0400
TZNAME:EDT
DTSTART:20250309T070000
END:DAYLIGHT
BEGIN:STANDARD
TZOFFSETFROM:-0400
TZOFFSETTO:-0500
TZNAME:EST
DTSTART:20251102T060000
END:STANDARD
BEGIN:DAYLIGHT
TZOFFSETFROM:-0500
TZOFFSETTO:-0400
TZNAME:EDT
DTSTART:20260308T070000
END:DAYLIGHT
BEGIN:STANDARD
TZOFFSETFROM:-0400
TZOFFSETTO:-0500
TZNAME:EST
DTSTART:20261101T060000
END:STANDARD
END:VTIMEZONE
BEGIN:VEVENT
DTSTART;TZID=America/New_York:20250226T120000
DTEND;TZID=America/New_York:20250226T130000
DTSTAMP:20260422T144017
CREATED:20250124T200246Z
LAST-MODIFIED:20250124T200537Z
UID:10002642-1740571200-1740574800@gradcareers.cornell.edu
SUMMARY:Science Policy Career Exploration Week
DESCRIPTION:The National Science Policy Network offers free webinars to learn about how you can be involved in affecting policies you are passionate about. Explore diverse career paths in science policy with NSPN’s four-part webinar series. Learn about positions in federal & state government\, nonprofit and private sectors. Each session will provide practical guidance and inspiration for navigating these impactful fields. \nRegister now \n\nNSPN | Science Policy Career Exploration Week\n\n\n\n\n\n\n\n\n\n\n\n\n\nFeb 25\, 2025 noon-1:00 PM\nFeb 26\, 2025 noon-1:00 PM\nFeb 27\, 2025 noon-1:00 PM\nFeb 28\, 2025 noon-1:00 PM
URL:https://gradcareers.cornell.edu/event/science-policy-career-exploration-week/2025-02-26/
LOCATION:Online
END:VEVENT
END:VCALENDAR