BEGIN:VCALENDAR
VERSION:2.0
PRODID:-//Careers Beyond Academia - ECPv6.15.20//NONSGML v1.0//EN
CALSCALE:GREGORIAN
METHOD:PUBLISH
X-WR-CALNAME:Careers Beyond Academia
X-ORIGINAL-URL:https://gradcareers.cornell.edu
X-WR-CALDESC:Events for Careers Beyond Academia
REFRESH-INTERVAL;VALUE=DURATION:PT1H
X-Robots-Tag:noindex
X-PUBLISHED-TTL:PT1H
BEGIN:VTIMEZONE
TZID:America/New_York
BEGIN:DAYLIGHT
TZOFFSETFROM:-0500
TZOFFSETTO:-0400
TZNAME:EDT
DTSTART:20240310T070000
END:DAYLIGHT
BEGIN:STANDARD
TZOFFSETFROM:-0400
TZOFFSETTO:-0500
TZNAME:EST
DTSTART:20241103T060000
END:STANDARD
BEGIN:DAYLIGHT
TZOFFSETFROM:-0500
TZOFFSETTO:-0400
TZNAME:EDT
DTSTART:20250309T070000
END:DAYLIGHT
BEGIN:STANDARD
TZOFFSETFROM:-0400
TZOFFSETTO:-0500
TZNAME:EST
DTSTART:20251102T060000
END:STANDARD
BEGIN:DAYLIGHT
TZOFFSETFROM:-0500
TZOFFSETTO:-0400
TZNAME:EDT
DTSTART:20260308T070000
END:DAYLIGHT
BEGIN:STANDARD
TZOFFSETFROM:-0400
TZOFFSETTO:-0500
TZNAME:EST
DTSTART:20261101T060000
END:STANDARD
END:VTIMEZONE
BEGIN:VEVENT
DTSTART;TZID=America/New_York:20251008T110000
DTEND;TZID=America/New_York:20251008T123000
DTSTAMP:20260422T022135
CREATED:20250910T192017Z
LAST-MODIFIED:20250923T131728Z
UID:10002708-1759921200-1759926600@gradcareers.cornell.edu
SUMMARY:Learn about career opportunities in Denmark
DESCRIPTION:Attend this online information session to explore research and industry career opportunities in Neuroscience\, Biosolutions (Biotech)\, Power-to-X (Green Energy) and most recently Quantum (thanks to a project expansion by the Novo Nordisk Foundation) in Denmark. Join Science Hub Denmark for this event with Cornell University’s Office of Career and Professional Development. Hear from the Head of Science Hub Denmark Alexander Watts\, Power-to-X and Biosolutions Project Manager Ralph Johannesen and Neuroscience Project Manager Caitriona Organ as they discuss careers and life in Denmark. The information session will be immediately followed by a casual Q&A. \nDiscover how Denmark is shaping the future of science\, and explore exciting career paths within a thriving research and innovation ecosystem. Learn about Denmark’s world-renowned work-life balance\, vibrant research environment\, and high quality of life—making it an ideal place to build your career and enjoy life beyond work. Whether you’re interested in academia or aiming for a career in industry\, this event will be insightful. \nPrior to the program\, explore open research positions and industry jobs in Denmark. \nCalling all PhDs and Post Docs – Tune in to learn about career opportunities in Denmark \nPlease register for this online event using this link\nThis event is open to graduate students and postdocs. Held online Oct 8 @ 11am-12:30pm \nMore information at research.state-of-denmark.com and Copenhagen Capacity \nThis event is being hosted by the Office of Career and Professional Development in the Graduate School at Cornell University.  Facilitated by Christine Holmes\, Director of Postdoctoral Studies and Susi Varvayanis\, Executive Director of Careers Beyond Academia. \nDenmark ranks:\n#1 European Commission\, “European Innovation Scoreboard 2024”\n#1 Time Out: “Happy City Index 2025”\n#2 United Nations “World Happiness Report 2025”\n#1 The Economist\, “The World’s Most Liveable Cities 2025”\n#4 IMD\, “World Competitiveness Ranking 2025”\n#3 United Nations\, “Sustainable Development Report 2025”
URL:https://gradcareers.cornell.edu/event/learn-about-career-opportunities-in-denmark/
LOCATION:Online
CATEGORIES:Careers Beyond Academia
END:VEVENT
END:VCALENDAR