BEGIN:VCALENDAR
VERSION:2.0
PRODID:-//Careers Beyond Academia - ECPv6.15.20//NONSGML v1.0//EN
CALSCALE:GREGORIAN
METHOD:PUBLISH
X-WR-CALNAME:Careers Beyond Academia
X-ORIGINAL-URL:https://gradcareers.cornell.edu
X-WR-CALDESC:Events for Careers Beyond Academia
REFRESH-INTERVAL;VALUE=DURATION:PT1H
X-Robots-Tag:noindex
X-PUBLISHED-TTL:PT1H
BEGIN:VTIMEZONE
TZID:America/New_York
BEGIN:DAYLIGHT
TZOFFSETFROM:-0500
TZOFFSETTO:-0400
TZNAME:EDT
DTSTART:20240310T070000
END:DAYLIGHT
BEGIN:STANDARD
TZOFFSETFROM:-0400
TZOFFSETTO:-0500
TZNAME:EST
DTSTART:20241103T060000
END:STANDARD
BEGIN:DAYLIGHT
TZOFFSETFROM:-0500
TZOFFSETTO:-0400
TZNAME:EDT
DTSTART:20250309T070000
END:DAYLIGHT
BEGIN:STANDARD
TZOFFSETFROM:-0400
TZOFFSETTO:-0500
TZNAME:EST
DTSTART:20251102T060000
END:STANDARD
BEGIN:DAYLIGHT
TZOFFSETFROM:-0500
TZOFFSETTO:-0400
TZNAME:EDT
DTSTART:20260308T070000
END:DAYLIGHT
BEGIN:STANDARD
TZOFFSETFROM:-0400
TZOFFSETTO:-0500
TZNAME:EST
DTSTART:20261101T060000
END:STANDARD
END:VTIMEZONE
BEGIN:VEVENT
DTSTART;TZID=America/New_York:20250110T120000
DTEND;TZID=America/New_York:20250110T130000
DTSTAMP:20260423T022746
CREATED:20241125T185853Z
LAST-MODIFIED:20241125T185853Z
UID:10002629-1736510400-1736514000@gradcareers.cornell.edu
SUMMARY:Ignite Fellow for New Ventures info session
DESCRIPTION:Applications Open for the 2026 Cycle!\nLooking to make a real-world impact with a technology you’ve developed at Cornell? The Ignite Fellow for New Ventures program funds and trains Ph.D. and master’s holders with entrepreneurial outlooks to start technology ventures. \nDuring the 12-month fellowship\, fellows work in their faculty inventor’s lab for technology development and report to one of the incubator directors at the Center for Life Science Ventures\, Praxis Center for Venture Development\, or Runway Startup Postdocs for business development support. \nWhy Ignite Fellow for New Ventures?\n\nAdvance technology commercialization: grow as an entrepreneur scientist or engineer by partnering with a Cornell faculty inventor.\n\n\nFunding Package of Up to $120\,000: we’re here to de-risk your journey with a comprehensive funding package covering your salary for up to two years and essential experiment costs.\n\n\nCornell’s Inclusive Ethos: built on the principle of “…any person…any study\,” our program encourages you to explore a diverse range of groundbreaking discoveries in Cornell labs.\n\n\nOpen to aspiring entrepreneurs: we’re seeking master’s graduates\, PhDs\, and postdocs who dream big\, take risks\, and envision themselves as a CEO\, CSO\, or CTO founder.\n\nApply Now \nRegister for a Virtual Information Session to Learn More\n\nDecember 4\, 12-1 p.m.\nJanuary 10\, 12-1 p.m.
URL:https://gradcareers.cornell.edu/event/ignite-fellow-for-new-ventures-info-session/2025-01-10/
LOCATION:Online
CATEGORIES:Careers Beyond Academia
END:VEVENT
BEGIN:VEVENT
DTSTART;TZID=America/New_York:20250121T110000
DTEND;TZID=America/New_York:20250121T120000
DTSTAMP:20260423T022746
CREATED:20250117T145529Z
LAST-MODIFIED:20250117T171102Z
UID:10002634-1737457200-1737460800@gradcareers.cornell.edu
SUMMARY:Info session for Runway Startup Postdoc Program
DESCRIPTION:Applications are now open for next year’s Runway Startup Postdoc Program at Cornell Tech in NYC. This program is designed for recently graduated STEM PhD who have a startup idea and are interested in pursuing entrepreneurship as a career path. \nInformation sessions will be held Tuesday\, January 21\, 11am – noon\, and Thursday\, January 30\, 12 – 2pm.  Register to attend \nThe Runway Startup Postdoc Program is part business school\, part research institution\, and part startup incubator. Based at the Jacobs Technion-Cornell Institute\, Runway ushers recent PhDs in digital technology fields through a paradigm shift — from an academic mindset to an entrepreneurial outlook. \nStartup Postdocs arrive with ideas for unproven products and markets that require time and specialized guidance to develop. These startups demand more than a few months to launch. They need a bit of a “runway.” That’s why our program lasts 12–24 months and incorporates academic and business mentorship. \nRunway provides an impressive package valued at $175\,000 in the first year and $150\,000 in the second year\, which includes a salary\, research budget\, housing allowance\, space and more. Learn more about benefits and perks here. \nThe application deadline is February 15.
URL:https://gradcareers.cornell.edu/event/info-session-for-runway-startup-postdoc-program/2025-01-21/
LOCATION:Online
CATEGORIES:Careers Beyond Academia
END:VEVENT
BEGIN:VEVENT
DTSTART;TZID=America/New_York:20250122T110000
DTEND;TZID=America/New_York:20250122T180000
DTSTAMP:20260423T022746
CREATED:20250110T211243Z
LAST-MODIFIED:20250110T211243Z
UID:10002630-1737543600-1737568800@gradcareers.cornell.edu
SUMMARY:DOE Quantum Information Science Career Fair
DESCRIPTION:On Jan. 22\, 2025\, the U.S. Department of Energy (DOE) quantum centers are hosting their annual free\, virtual Quantum Information Science Career Fair. Job seekers will have the chance to interact one-on-one with representatives from academia\, industry and the national labs. The fair will also include panel discussions featuring scientists and other professionals in quantum. \nThe career fair is free and open to the public.  Register online by Tuesday January 21\, 2025.
URL:https://gradcareers.cornell.edu/event/doe-quantum-information-science-career-fair/
LOCATION:Virtual Session\, NY\, United States
CATEGORIES:Careers Beyond Academia
END:VEVENT
BEGIN:VEVENT
DTSTART;TZID=America/New_York:20250129T120000
DTEND;TZID=America/New_York:20250129T130000
DTSTAMP:20260423T022747
CREATED:20241125T172011Z
LAST-MODIFIED:20250102T210714Z
UID:10002626-1738152000-1738155600@gradcareers.cornell.edu
SUMMARY:Information Session on the Cornell Three Minute Thesis (3MT)
DESCRIPTION:Learn about the Three-Minute Thesis competition: history\, format\, judging\, prizes\, and how Cornell offers the chance to prepare and participate. Organizers will field your questions about competing in the Cornell Graduate School competition in Spring 2025. \nRegister online to attend an information session.
URL:https://gradcareers.cornell.edu/event/information-session-on-the-cornell-three-minute-thesis-3mt-3/
LOCATION:Zoom
CATEGORIES:Careers Beyond Academia,Future Faculty and Academic Careers
ATTACH;FMTTYPE=image/png:https://gradcareers.cornell.edu/wp-content/uploads/2024/02/3MT-Logo_RGB-4Y6Yn9.tmp_.png
END:VEVENT
BEGIN:VEVENT
DTSTART;TZID=America/New_York:20250130T120000
DTEND;TZID=America/New_York:20250130T140000
DTSTAMP:20260423T022747
CREATED:20250117T145529Z
LAST-MODIFIED:20250117T171102Z
UID:10002636-1738238400-1738245600@gradcareers.cornell.edu
SUMMARY:Info session for Runway Startup Postdoc Program
DESCRIPTION:Applications are now open for next year’s Runway Startup Postdoc Program at Cornell Tech in NYC. This program is designed for recently graduated STEM PhD who have a startup idea and are interested in pursuing entrepreneurship as a career path. \nInformation sessions will be held Tuesday\, January 21\, 11am – noon\, and Thursday\, January 30\, 12 – 2pm.  Register to attend \nThe Runway Startup Postdoc Program is part business school\, part research institution\, and part startup incubator. Based at the Jacobs Technion-Cornell Institute\, Runway ushers recent PhDs in digital technology fields through a paradigm shift — from an academic mindset to an entrepreneurial outlook. \nStartup Postdocs arrive with ideas for unproven products and markets that require time and specialized guidance to develop. These startups demand more than a few months to launch. They need a bit of a “runway.” That’s why our program lasts 12–24 months and incorporates academic and business mentorship. \nRunway provides an impressive package valued at $175\,000 in the first year and $150\,000 in the second year\, which includes a salary\, research budget\, housing allowance\, space and more. Learn more about benefits and perks here. \nThe application deadline is February 15.
URL:https://gradcareers.cornell.edu/event/info-session-for-runway-startup-postdoc-program/2025-01-30/
LOCATION:Online
CATEGORIES:Careers Beyond Academia
END:VEVENT
BEGIN:VEVENT
DTSTART;TZID=America/New_York:20250130T120000
DTEND;TZID=America/New_York:20250130T140000
DTSTAMP:20260423T022747
CREATED:20250117T145856Z
LAST-MODIFIED:20250117T150016Z
UID:10002635-1738238400-1738245600@gradcareers.cornell.edu
SUMMARY:Info session for Runway Startup Postdoc Program
DESCRIPTION:Applications are now open for next year’s Runway Startup Postdoc Program at Cornell Tech in NYC. This program is designed for recently graduated STEM PhD who have a startup idea and are interested in pursuing entrepreneurship as a career path. \nInformation sessions will be held Tuesday\, January 21\, 11am – noon\, and Thursday\, January 30\, 12 – 2pm.  Register to attend \nThe Runway Startup Postdoc Program is part business school\, part research institution\, and part startup incubator. Based at the Jacobs Technion-Cornell Institute\, Runway ushers recent PhDs in digital technology fields through a paradigm shift — from an academic mindset to an entrepreneurial outlook. \nStartup Postdocs arrive with ideas for unproven products and markets that require time and specialized guidance to develop. These startups demand more than a few months to launch. They need a bit of a “runway.” That’s why our program lasts 12–24 months and incorporates academic and business mentorship. \nRunway provides an impressive package valued at $175\,000 in the first year and $150\,000 in the second year\, which includes a salary\, research budget\, housing allowance\, space and more. Learn more about benefits and perks here. \nThe application deadline is February 15.
URL:https://gradcareers.cornell.edu/event/info-session-for-runway-startup-postdoc-program-2/
LOCATION:Online
CATEGORIES:Careers Beyond Academia
END:VEVENT
END:VCALENDAR