BEGIN:VCALENDAR
VERSION:2.0
PRODID:-//Careers Beyond Academia - ECPv6.15.20//NONSGML v1.0//EN
CALSCALE:GREGORIAN
METHOD:PUBLISH
X-WR-CALNAME:Careers Beyond Academia
X-ORIGINAL-URL:https://gradcareers.cornell.edu
X-WR-CALDESC:Events for Careers Beyond Academia
REFRESH-INTERVAL;VALUE=DURATION:PT1H
X-Robots-Tag:noindex
X-PUBLISHED-TTL:PT1H
BEGIN:VTIMEZONE
TZID:America/New_York
BEGIN:DAYLIGHT
TZOFFSETFROM:-0500
TZOFFSETTO:-0400
TZNAME:EDT
DTSTART:20240310T070000
END:DAYLIGHT
BEGIN:STANDARD
TZOFFSETFROM:-0400
TZOFFSETTO:-0500
TZNAME:EST
DTSTART:20241103T060000
END:STANDARD
BEGIN:DAYLIGHT
TZOFFSETFROM:-0500
TZOFFSETTO:-0400
TZNAME:EDT
DTSTART:20250309T070000
END:DAYLIGHT
BEGIN:STANDARD
TZOFFSETFROM:-0400
TZOFFSETTO:-0500
TZNAME:EST
DTSTART:20251102T060000
END:STANDARD
BEGIN:DAYLIGHT
TZOFFSETFROM:-0500
TZOFFSETTO:-0400
TZNAME:EDT
DTSTART:20260308T070000
END:DAYLIGHT
BEGIN:STANDARD
TZOFFSETFROM:-0400
TZOFFSETTO:-0500
TZNAME:EST
DTSTART:20261101T060000
END:STANDARD
END:VTIMEZONE
BEGIN:VEVENT
DTSTART;TZID=America/New_York:20250805T163000
DTEND;TZID=America/New_York:20250805T173000
DTSTAMP:20260425T225919
CREATED:20250821T044925Z
LAST-MODIFIED:20250821T044925Z
UID:10002689-1754411400-1754415000@gradcareers.cornell.edu
SUMMARY:Ph.D. Career Stories: The Good\, The Messy\, and The Pivot
DESCRIPTION:Curious about how a social science Ph.D. can open doors to meaningful careers beyond the tenure track? Join us for Ph.D. Career Stories: The Good\, the Messy\, and the Pivot—a virtual conversation series spotlighting Cornell alumni who have translated their doctoral training into impactful roles inside and outside academia. \nIn this session\, you’ll hear from three professionals working across urban policy\, service design\, AI ethics\, visual anthropology\, and community-based research. Whether they’re leading research at nonprofits\, producing documentary films\, teaching at universities\, or advising on emerging technologies\, each guest brings a unique perspective on building a career that blends human-centered values with impact-driven work. \nWhat to expect: \n\nHonest\, informal conversation—no slides or scripts\nBalancing university teaching with consulting or freelance work\nPractical insight into navigating uncertainty\, finding direction\, and translating academic training into impact\n\nIf you’re actively exploring life beyond the academy or curious about hybrid paths that combine teaching\, research\, and creative work\, this event will offer clarity\, connection\, and inspiration. \nRegister to attend. \n  \n\nSena Aydin Bergfalk\, Ph.D.  is a cultural anthropologist who works at the intersection of design research\, strategy\, and facilitation. She shapes service design projects across B2B and B2C ecosystems using a critical ethnographic lens to uncover assumptions and design services that connect business goals with human experiences. Sena earned a Ph.D. in Anthropology from Cornell in 2023 and is currently the Lead Service Designer at Sngular.\n\n\n\n\n\n\n\n\n\n\n\n\n\n\n\n\n\nMarisa Turesky\, Ph.D is a community-based researcher and educator focused on equity in urban policy. She is Director of Research at Mockingbird Analytics\, a Visiting Professor at UC Berkeley\, and serves on the Board of Drag Performers United. Her work integrates trauma-informed and participatory action research to explore how identity shapes access to space and services. She holds a Ph.D. in Urban Planning & Development from the University of Southern California and a M.R.P. from Cornell University. \n  \n  \n  \n  \n  \nMariangela Mihai\, Ph.D. is a political and visual anthropologist whose work bridges generative AI\, collaborative documentary\, and social justice. She is an Assistant Professor at Western Washington University\, a Red Teamer on Meta’s Generative AI Trust Team\, and co-founder of the Ethnocine Film Collective\, where she produces feminist films and impact campaigns. Her research and teaching focus on refugee rights\, queer activism\, Indigenous resistance\, and ethical media practices across global contexts. \n  \n 
URL:https://gradcareers.cornell.edu/event/ph-d-career-stories-the-good-the-messy-and-the-pivot-2/
LOCATION:Online
CATEGORIES:Careers Beyond Academia,Future Faculty and Academic Careers
END:VEVENT
BEGIN:VEVENT
DTSTART;TZID=America/New_York:20250826T173000
DTEND;TZID=America/New_York:20250826T183000
DTSTAMP:20260425T225919
CREATED:20250821T044459Z
LAST-MODIFIED:20250821T044459Z
UID:10002694-1756229400-1756233000@gradcareers.cornell.edu
SUMMARY:Learn about 3M and R&D career opportunities
DESCRIPTION:Meet Abhishek Srivastava PhD’16 /MAE\, currently part of 3M R&D in St. Paul as an Advanced Research Specialist in the Corporate Research Laboratory. He is leading the R&D University Recruiting for Cornell at 3M this year. He will be joined by Cornell PhD alumnus Bo Yang\, Product Development Specialist at 3M. \n========================================================== \nAbout the event \nJoin us to learn about 3M and our R&D career opportunities. \nWhere you begin your career has a major impact on your professional and personal life. It is important to choose a company with leaders who support and guide your growth. With diverse products\, global locations\, and technologies\, 3M is a place where new employees collaborate with 61\,000 other curious\, creative 3Mers. Here\, you’ll elevate your career. \nE-Information Session: Join via Teams \n5:30PM EST\, Aug 26\, 2025 scheduled in Cornell’s Handshake system\, where you can register to attend. \nWe will be collecting resumes via this URL for screening interviews on a rolling basis. Please note that this URL is not attached to a particular job posting. Candidates selected after the screening interviews will be requested to apply to the particular job posting for continuing the recruitment process. \nLearn more and begin your application package today!
URL:https://gradcareers.cornell.edu/event/learn-about-3m-and-rd-career-opportunities/
LOCATION:Online
CATEGORIES:Careers Beyond Academia
ATTACH;FMTTYPE=image/png:https://gradcareers.cornell.edu/wp-content/uploads/2025/08/3M-logo.png
END:VEVENT
BEGIN:VEVENT
DTSTART;TZID=America/New_York:20250828T100000
DTEND;TZID=America/New_York:20250828T110000
DTSTAMP:20260425T225920
CREATED:20250815T183102Z
LAST-MODIFIED:20250825T141000Z
UID:10002691-1756375200-1756378800@gradcareers.cornell.edu
SUMMARY:Explore Job Opportunities in the UK Beyond Academia: For Advanced Degree Candidates
DESCRIPTION:Considering an international move for your next step? This session\, led by Dr. Chris Jeffs from the University of Oxford’s Careers Service\, will introduce you to the UK job market across various employment sectors for master’s and PhD students and postdocs. You’ll gain knowledge and key tools for deepening your independent research into your future career path options in the UK. \nBy the end of the session you should be able to: \n\nLocate resources for researching UK employment sectors matching your interests\nRecognise key jobs boards and methods for finding UK employment opportunities\nRecognise conventions for UK application materials\n\nDATE: August 28\, 2025 \nTIME: 10:00–11:00 AM EST \nDiscover non-academic career options in the UK and strategies for leveraging your advanced degree: Register here
URL:https://gradcareers.cornell.edu/event/explore-job-opportunities-in-the-uk-beyond-academia-for-advanced-degree-candidates/
LOCATION:Online
CATEGORIES:Careers Beyond Academia
ATTACH;FMTTYPE=image/jpeg:https://gradcareers.cornell.edu/wp-content/uploads/2025/08/chris_jeffs_headshot.jpg
END:VEVENT
BEGIN:VEVENT
DTSTART;TZID=America/New_York:20250828T173000
DTEND;TZID=America/New_York:20250828T183000
DTSTAMP:20260425T225920
CREATED:20250826T175630Z
LAST-MODIFIED:20250826T175630Z
UID:10002703-1756402200-1756405800@gradcareers.cornell.edu
SUMMARY:Debunking academia vs. industry myths: Be the entrepreneur of your own career
DESCRIPTION:Less than a third of PhDs get tenure-track jobs. The vast majority of PhDs are left to figure out the labyrinth of a non-academic job market on their own. Yet\, the industry job market is far from the panacea it was touted to be: intense competition\, mass layoffs\, dwindling job security\, lack of intellectual rigor\, lack of time freedom\, discriminatory treatment of international job candidates. This talk will take an honest look at the challenges faced by PhDs in both academia and industry. We will explore ways to design a fulfilling career that provides financial stability for doing what you enjoy. \nDate & Time\nAug 28\, 2025 at 5:30 PM Eastern Time (US and Canada) \nSpeaker:\nKaidi Wu\, Founder\, Academic Trailblazer \nI help PhDs create the careers they want beyond academia. At 16\, I booked a one-way flight to the U.S. to study to become a concert pianist. I obtained my piano performance degree from the University of Michigan\, went on to receive my PhD in social psychology\, and completed my postdoc at UC San Diego. Faced with an abysmal job market in the middle of a pandemic\, I did what every other academic did: breaking into industry and getting myself a good ol’ 9-to-5. I worked at Amazon\, Meta\, and Match. I was rewarded with a great salary. I was also deeply unfulfilled. I discovered a world of people living life outside the box\, academics outside of traditional academia\, who create and attract opportunities that come to them\, not the other way around. I realized: Wealth is abundant. Paths are infinite. You are in the driver’s seat of designing the life you want to live. I am here to help you see your PhD has tremendous value beyond the traditional career paths we have been sold. \nRegistration\nRegister here
URL:https://gradcareers.cornell.edu/event/debunking-academia-vs-industry-myths-be-the-entrepreneur-of-your-own-career-2/
LOCATION:Online
CATEGORIES:Careers Beyond Academia
END:VEVENT
BEGIN:VEVENT
DTSTART;TZID=America/New_York:20250829T120000
DTEND;TZID=America/New_York:20250829T130000
DTSTAMP:20260425T225920
CREATED:20250820T172434Z
LAST-MODIFIED:20250825T141310Z
UID:10002692-1756468800-1756472400@gradcareers.cornell.edu
SUMMARY:From Ph.D. to Future Success: Master LinkedIn & AI to Unlock Your Next Chapter
DESCRIPTION:You’ve spent years mastering complex research\, contributing groundbreaking insights to your field\, and developing expertise that few possess. But now you’re facing a different kind of challenge: translating your academic achievements into career opportunities in an increasingly competitive job market. Whether you’re considering industry transitions\, academic positions\, or exploring entirely new paths\, the landscape of career discovery has been revolutionized by AI and strategic networking—and LinkedIn sits at the center of it all. \nWhat You’ll Learn in This Hands-On Webinar: \n\nAI-Powered Career Discovery. Transform uncertainty into clarity using cutting-edge AI tools that map your research skills to unexpected career opportunities across industry\, academia\, government\, and entrepreneurship. Stop wondering “what’s out there” and start strategically targeting roles that match your unique expertise.\n LinkedIn Profile Optimization. Learn insider tips on crafting a profile that makes recruiters take notice. We’ll cover everything from headline optimization to showcasing your research impact in language that resonates with hiring managers—not just other academics.\n Strategic Network Expansion. Master the art of meaningful professional connections without awkward small talk or cold calls. Discover proven frameworks for engaging with alumni\, industry professionals\, and thought leaders who can provide career insights\, mentorship\, and even job referrals.\nAuthentic Personal Branding. Build an online presence that authentically reflects your unique strengths while highlighting the transferable “PhD superpowers” that make you invaluable in any workplace—critical thinking\, project management\, research methodology\, and complex problem-solving.\n\nWhy This Webinar Is Different: \nThis isn’t another generic LinkedIn profile workshop. You’ll receive actionable strategies specifically designed for graduate students and PhDs\, based on real success stories and current market insights. Plus\, this is an interactive experience—come prepared to work on your own profile and leave with concrete next steps. \nPerfect for: Current PhD students\, recent graduates\, postdocs\, and anyone with advanced research experience ready to take control of their career trajectory. You don’t have to plan your future alone. Join us and discover how the right tools\, advocates\, and strategies can transform your professional development from overwhelming to empowering. \nThis event is open to graduate students from the Ivy+ institutions. \nRegistration for Non-Princeton Students: \n 
URL:https://gradcareers.cornell.edu/event/from-ph-d-to-future-success-master-linkedin-ai-to-unlock-your-next-chapter/
LOCATION:Online
CATEGORIES:Careers Beyond Academia,Future Faculty and Academic Careers
ATTACH;FMTTYPE=image/png:https://gradcareers.cornell.edu/wp-content/uploads/2025/08/LinkedIn-Ai.png
END:VEVENT
END:VCALENDAR