BEGIN:VCALENDAR
VERSION:2.0
PRODID:-//Careers Beyond Academia - ECPv6.15.20//NONSGML v1.0//EN
CALSCALE:GREGORIAN
METHOD:PUBLISH
X-ORIGINAL-URL:https://gradcareers.cornell.edu
X-WR-CALDESC:Events for Careers Beyond Academia
REFRESH-INTERVAL;VALUE=DURATION:PT1H
X-Robots-Tag:noindex
X-PUBLISHED-TTL:PT1H
BEGIN:VTIMEZONE
TZID:America/New_York
BEGIN:DAYLIGHT
TZOFFSETFROM:-0500
TZOFFSETTO:-0400
TZNAME:EDT
DTSTART:20190310T070000
END:DAYLIGHT
BEGIN:STANDARD
TZOFFSETFROM:-0400
TZOFFSETTO:-0500
TZNAME:EST
DTSTART:20191103T060000
END:STANDARD
BEGIN:DAYLIGHT
TZOFFSETFROM:-0500
TZOFFSETTO:-0400
TZNAME:EDT
DTSTART:20200308T070000
END:DAYLIGHT
BEGIN:STANDARD
TZOFFSETFROM:-0400
TZOFFSETTO:-0500
TZNAME:EST
DTSTART:20201101T060000
END:STANDARD
BEGIN:DAYLIGHT
TZOFFSETFROM:-0500
TZOFFSETTO:-0400
TZNAME:EDT
DTSTART:20210314T070000
END:DAYLIGHT
BEGIN:STANDARD
TZOFFSETFROM:-0400
TZOFFSETTO:-0500
TZNAME:EST
DTSTART:20211107T060000
END:STANDARD
END:VTIMEZONE
BEGIN:VEVENT
DTSTART;TZID=America/New_York:20200416T000000
DTEND;TZID=America/New_York:20200417T235959
DTSTAMP:20260420T133548
CREATED:20190723T143640Z
LAST-MODIFIED:20200616T200138Z
UID:10001897-1586995200-1587167999@gradcareers.cornell.edu
SUMMARY:Entrepreneurship Celebration – CANCELLED
DESCRIPTION:April 16th and 17th\, 2020 – CANCELLED\nThis 2-day entrepreneurship conference is conducted annually on the Ithaca campus to bring together more than 700 students\, alumni\, faculty\, staff and community participants.  Multiple colleges and programs collaborate to provide: \n\nSymposia on a wide range of topics including mentorship success\, sustainable social enterprise\, health administration\, etc.\neLab Demo Day\n“Cornell Startup Perspectives From Ideation to Fruition” lunch\, Sponsored by Cornell Technology Licensing (CTL)\nRecognition of Cornell Entrepreneur of the Year\nStudent Business of the Year Announced\nBusiness Idea & Plan Competition Finals\nNetworking opportunities…and much more!\n\nAccessibility Requests \nWe strive to make our events accessible to all community members. Individuals who would like to request accessibility accommodations should contact gradcareers@cornell.edu. We ask that requests be made at least one week in advance to help ensure they can be met.
URL:https://gradcareers.cornell.edu/event/entrepreneurship-celebration/
CATEGORIES:Careers Beyond Academia
END:VEVENT
BEGIN:VEVENT
DTSTART;TZID=America/New_York:20200416T140000
DTEND;TZID=America/New_York:20200416T150000
DTSTAMP:20260420T133548
CREATED:20200413T192242Z
LAST-MODIFIED:20200616T200120Z
UID:10001665-1587045600-1587049200@gradcareers.cornell.edu
SUMMARY:Job Search Strategies (Non-faculty Jobs)
DESCRIPTION:A job search involves more than just applying to job postings. Successful job searches require planning. You will need to complete four key activities: building a productive network\, creating resumes that work for you\, establishing search strategies for finding jobs\, and preparing for a competitive interview. This session examines the job search as a process that integrates those four key activities to launch an effective job search. We will cover jobs choices in all sectors (non-profits\, government\, industry\, and non-faculty academic jobs) \nThis session will be available by webinar (live and archive from this same link) https://attendee.gotowebinar.com/register/4573376140931848974 \nSpeaker: Lori Conlan\, PhD\, Director\, Office of Postdoctoral Services \nPresented by the NIH Office of Intramural Training and Education (OITE)
URL:https://gradcareers.cornell.edu/event/job-search-strategies-non-faculty-jobs/
LOCATION:Webinar
CATEGORIES:Careers Beyond Academia
END:VEVENT
BEGIN:VEVENT
DTSTART;TZID=America/New_York:20200416T150000
DTEND;TZID=America/New_York:20200416T160000
DTSTAMP:20260420T133548
CREATED:20200409T200137Z
LAST-MODIFIED:20200616T200120Z
UID:10002005-1587049200-1587052800@gradcareers.cornell.edu
SUMMARY:Tips for 5 Minute Memorable Research Presentation Pitch
DESCRIPTION:This event will provide tips in creating a memorable research presentation. \nThe learning objectives for the webinar: \n\nGiven a short presentation\, participants will be able to analyze it for specific improvements in their performance.\nParticipants will be able to explain three qualities that make a pitch memorable.\nAt the end of this webinar\, learners will complete an exercise to create six words to summarize their research\n\nTo Register \nAccessibility Requests \nWe strive to make our events accessible to all community members. Individuals who would like to request accessibility accommodations should contact gradcareers@cornell.edu. We ask that requests be made at least one week in advance to help ensure they can be met.
URL:https://gradcareers.cornell.edu/event/tips-for-5-minute-memorable-research-presentation-pitch/
LOCATION:Zoom\, NY\, United States
CATEGORIES:Careers Beyond Academia
END:VEVENT
BEGIN:VEVENT
DTSTART;TZID=America/New_York:20200416T173000
DTEND;TZID=America/New_York:20200416T183000
DTSTAMP:20260420T133548
CREATED:20200413T170916Z
LAST-MODIFIED:20200616T200120Z
UID:10002007-1587058200-1587061800@gradcareers.cornell.edu
SUMMARY:How to Practice for Case Interviews - CGCC Zoom Workshop
DESCRIPTION:Trying to figure out how to take the first crack at this Case Interview thing? Join us for a 1-hour\, hands-on workshop\, where we’ll guide you through ideas and practices with a demo case! \nLed by graduating members of Cornell Graduate Consulting Club who have landed consulting offers\, we will: \n\nReview the format of the case interview\nShow you strategies to prepare for it\nIntroduce you to the key skills you will need to develop\, and provide you with resources to help you on your way.\n\n​There will also be an interactive session where you’ll get a chance to try your brainstorming and structuring skills on real interview-style prompts. \nNot interviewing for jobs this year? Not a problem! It’s never too early to start working on these important skills! Practicing brainstorming ideas and learning how best to structure your problem solving and presentations will serve you well in your classes\, research\, work\, and maybe you’ll join your fellow CGCC members at a case competition! \nZoom Meeting Link*\n*Note: Authentication with a cornell.edu address is required to join the Zoom meeting.
URL:https://gradcareers.cornell.edu/event/how-to-practice-for-case-interviews-cgcc-zoom-workshop/
LOCATION:Zoom
CATEGORIES:Careers Beyond Academia
END:VEVENT
END:VCALENDAR