BEGIN:VCALENDAR
VERSION:2.0
PRODID:-//Careers Beyond Academia - ECPv6.15.20//NONSGML v1.0//EN
CALSCALE:GREGORIAN
METHOD:PUBLISH
X-ORIGINAL-URL:https://gradcareers.cornell.edu
X-WR-CALDESC:Events for Careers Beyond Academia
REFRESH-INTERVAL;VALUE=DURATION:PT1H
X-Robots-Tag:noindex
X-PUBLISHED-TTL:PT1H
BEGIN:VTIMEZONE
TZID:America/New_York
BEGIN:DAYLIGHT
TZOFFSETFROM:-0500
TZOFFSETTO:-0400
TZNAME:EDT
DTSTART:20230312T070000
END:DAYLIGHT
BEGIN:STANDARD
TZOFFSETFROM:-0400
TZOFFSETTO:-0500
TZNAME:EST
DTSTART:20231105T060000
END:STANDARD
BEGIN:DAYLIGHT
TZOFFSETFROM:-0500
TZOFFSETTO:-0400
TZNAME:EDT
DTSTART:20240310T070000
END:DAYLIGHT
BEGIN:STANDARD
TZOFFSETFROM:-0400
TZOFFSETTO:-0500
TZNAME:EST
DTSTART:20241103T060000
END:STANDARD
BEGIN:DAYLIGHT
TZOFFSETFROM:-0500
TZOFFSETTO:-0400
TZNAME:EDT
DTSTART:20250309T070000
END:DAYLIGHT
BEGIN:STANDARD
TZOFFSETFROM:-0400
TZOFFSETTO:-0500
TZNAME:EST
DTSTART:20251102T060000
END:STANDARD
END:VTIMEZONE
BEGIN:VEVENT
DTSTART;TZID=America/New_York:20240910T100000
DTEND;TZID=America/New_York:20240910T110000
DTSTAMP:20260422T230039
CREATED:20240802T195835Z
LAST-MODIFIED:20240802T195835Z
UID:10002559-1725962400-1725966000@gradcareers.cornell.edu
SUMMARY:Careers Beyond Academia Small Group Discussion
DESCRIPTION:Does your career plan need a tune-up? Join us online to find out how we can help you get the most out of Careers Beyond Academia. If you are interested in exploring your options and want to meet colleagues who are considering careers outside of a traditional tenure-track role\, sign up for a small group session. Bring your questions\, share your career aspirations and trepidations\, receive guidance on how to get started on your career search\, and specific advice on how to approach your advisor or make a career decision. We’ll exchange tips\, tricks\, and tools to efficiently explore your options\, build your skills and take action to prepare for your future. Feel free to pop in anytime during this hour that suits your schedule. ALL DISCIPLINES WELCOME!
URL:https://gradcareers.cornell.edu/event/careers-beyond-academia-small-group-discussion-6/2024-09-10/
LOCATION:Zoom
CATEGORIES:Careers Beyond Academia
ATTACH;FMTTYPE=image/png:https://gradcareers.cornell.edu/wp-content/uploads/2022/05/Screen-Shot-2021-03-10-at-00.55.19-97bR5W.tmp_.png
END:VEVENT
BEGIN:VEVENT
DTSTART;TZID=America/New_York:20240910T110000
DTEND;TZID=America/New_York:20240910T120000
DTSTAMP:20260422T230039
CREATED:20240903T143428Z
LAST-MODIFIED:20240903T143428Z
UID:10002581-1725966000-1725969600@gradcareers.cornell.edu
SUMMARY:SBIR/STTR Workshop: Application Process & Funding Options for Startups
DESCRIPTION:Ready to secure non-dilutive funding to take your startup to the next level? \nJoin Kirk Macolini\, President of InteliSpark\, LLC\, for this virtual workshop providing insights into the Small Business Innovation Research (SBIR) and Small Business Technology Transfer (STTR) application process and how to find other non-dilutive funding sources. During the workshop\, Macolini will discuss and answer questions regarding: \n\nWriting and submitting a successful SBIR/STTR proposal\nIdentifying strategies for making your SBIR/STTR proposal more competitive\nApplying to the SBIR/STTR Assistance Program\, which can help eligible companies\, based in New York state\, hire a qualified grant writing consultant to help them develop a proposal\n\nUpon registering\, participants will receive access to the SBIR/STTR video series\, a set of short videos containing valuable background information\, which they are encouraged to view prior to the workshop. The pre-workshop video series covers: \n\nAn overview of the SBIR/STTR programs\nProgram eligibility requirements\nDifferences between SBIR and STTR agencies\nUsing SBIR/STTR to enhance your company’s value\n\nThe event is free and open to the public. Register to reserve your spot.
URL:https://gradcareers.cornell.edu/event/sbir-sttr-workshop-application-process-funding-options-for-startups-4/
LOCATION:Webinar
CATEGORIES:Careers Beyond Academia
END:VEVENT
BEGIN:VEVENT
DTSTART;TZID=America/New_York:20240910T180000
DTEND;TZID=America/New_York:20240910T190000
DTSTAMP:20260422T230039
CREATED:20240830T194806Z
LAST-MODIFIED:20240830T194806Z
UID:10002579-1725991200-1725994800@gradcareers.cornell.edu
SUMMARY:Rev Content Session: Crafting Entrepreneurial Ideas for the Community
DESCRIPTION:Are you eager to start your entrepreneurial journey but haven’t found that breakthrough idea yet? Or do you have a startup concept but are unsure about the next steps? Join the Center for Regional Economic Advancement (CREA) for the Rev Content Session: Crafting Entrepreneurial Ideas for the Community! \nThis interactive content session will be led by Brad Treat\, Director of the Southern Tier Startup Alliance\, and Ken Rother\, Director of Rev: Ithaca Startup Works. Whether you’re just starting out or looking to take your idea to the next level\, this event offers valuable guidance\, collaborative discussions\, and expert advice to help you transform your entrepreneurial aspirations into reality. \nAspiring entrepreneurs and innovators are encouraged to join us with your creativity and visions to walk away with an actionable plan. Admission is free and all are welcome to attend. Please RSVP to attend\, and arrive promptly as the session will begin on time.
URL:https://gradcareers.cornell.edu/event/rev-content-session-crafting-entrepreneurial-ideas-for-the-community/
LOCATION:Rev: Ithaca Startup Works\, 314 E State St\, Ithaca\, 314 E State St\, Ithaca\, NY
CATEGORIES:Careers Beyond Academia
ATTACH;FMTTYPE=image/jpeg:https://gradcareers.cornell.edu/wp-content/uploads/2024/08/Crafting-Entrepreneurial-Ideas-for-the-Community-QR.jpg
GEO:42.4397038;-76.4950137
X-APPLE-STRUCTURED-LOCATION;VALUE=URI;X-ADDRESS=Rev: Ithaca Startup Works 314 E State St Ithaca 314 E State St Ithaca NY;X-APPLE-RADIUS=500;X-TITLE=314 E State St:geo:-76.4950137,42.4397038
END:VEVENT
END:VCALENDAR