BEGIN:VCALENDAR
VERSION:2.0
PRODID:-//Careers Beyond Academia - ECPv6.15.20//NONSGML v1.0//EN
CALSCALE:GREGORIAN
METHOD:PUBLISH
X-WR-CALNAME:Careers Beyond Academia
X-ORIGINAL-URL:https://gradcareers.cornell.edu
X-WR-CALDESC:Events for Careers Beyond Academia
REFRESH-INTERVAL;VALUE=DURATION:PT1H
X-Robots-Tag:noindex
X-PUBLISHED-TTL:PT1H
BEGIN:VTIMEZONE
TZID:America/New_York
BEGIN:DAYLIGHT
TZOFFSETFROM:-0500
TZOFFSETTO:-0400
TZNAME:EDT
DTSTART:20230312T070000
END:DAYLIGHT
BEGIN:STANDARD
TZOFFSETFROM:-0400
TZOFFSETTO:-0500
TZNAME:EST
DTSTART:20231105T060000
END:STANDARD
BEGIN:DAYLIGHT
TZOFFSETFROM:-0500
TZOFFSETTO:-0400
TZNAME:EDT
DTSTART:20240310T070000
END:DAYLIGHT
BEGIN:STANDARD
TZOFFSETFROM:-0400
TZOFFSETTO:-0500
TZNAME:EST
DTSTART:20241103T060000
END:STANDARD
BEGIN:DAYLIGHT
TZOFFSETFROM:-0500
TZOFFSETTO:-0400
TZNAME:EDT
DTSTART:20250309T070000
END:DAYLIGHT
BEGIN:STANDARD
TZOFFSETFROM:-0400
TZOFFSETTO:-0500
TZNAME:EST
DTSTART:20251102T060000
END:STANDARD
END:VTIMEZONE
BEGIN:VEVENT
DTSTART;TZID=America/New_York:20241121T120000
DTEND;TZID=America/New_York:20241121T123000
DTSTAMP:20260424T051452
CREATED:20241120T222018Z
LAST-MODIFIED:20241121T001825Z
UID:10002624-1732190400-1732192200@gradcareers.cornell.edu
SUMMARY:Webinar to learn BioRender's Poster Builder tool
DESCRIPTION:Join this Special Topic webinar aimed at helping researchers and scientists utilize BioRender’s Poster Builder tool to design and create better research posters.\nIn this 30-minute webinar\, learn actionable tips and techniques for designing research posters within BioRender’s Poster Builder tool and see a live demonstration.\n\nWhen: Thursday\, November 21\, 2024 12:00 -12:30 PM  EST\n \nClick HERE to reserve your spot!\n\nNot able to make it? Register anyway and you will receive a recording of the webinar.\n\nHope to see you there.\n\nBest\,\nNickie\n\nNickie Pulsone (she/her)\nCustomer Success Manager\nBioRender \ne: nickie.pulsone@biorender.com \n\nBioRender.com \n\n\n_____________\n\n\nDid you know there is a group license for the Cornell community that offers seats at a significantly lower cost than academic list pricing?  If you are interested in accessing these lower cost seats\, please contact brc_director@cornell.edu for details.  If you have any existing paid seats\, you may be able to join and recover some of the list price you already paid. Joining our group does not affect your existing free or paid accounts.  All content and information associated with your current free or paid account will transfer.\n\n\nJames VanEe\nAssociate Director\nBiotechnology Resource Center | Research & Innovation\nCornell University\nBiotechnology Bldg. 130\nIthaca\, NY 14853\n(607) 216-7021\nwww.brc.cornell.edu\n \nThe Biotechnology Resource Center is committed to accessibility. To request an accommodation to access our services or events\, please contact brc_director@cornell.edu\n\n \nPlease follow our guidelines to acknowledge the BRC and cite our shared instrumentation grants in your manuscripts. Thank you.
URL:https://gradcareers.cornell.edu/event/webinar-to-learn-biorenders-poster-builder-tool/
LOCATION:Online
CATEGORIES:Careers Beyond Academia
END:VEVENT
BEGIN:VEVENT
DTSTART;TZID=America/New_York:20241121T130000
DTEND;TZID=America/New_York:20241121T140000
DTSTAMP:20260424T051452
CREATED:20241024T203317Z
LAST-MODIFIED:20241114T172030Z
UID:10002616-1732194000-1732197600@gradcareers.cornell.edu
SUMMARY:NYAS Chat with Experts: Medical Affairs and Medical Information at Noven Pharmaceuticals
DESCRIPTION:Are you interested in building a career in STEM? Join The New York Academy of Sciences (NYAS) for an exciting monthly online event series designed to explore the vast opportunities within STEM fields. This series offers unique access to experts across industries. \nEngage in live Q&A sessions to ask questions that will help shape your own career path. Whether actively pursuing a STEM career or simply exploring possibilities\, this event series provides the tools and knowledge you need to succeed. \nThis is the second session in the Chat with Experts series\, and it will feature Mahwish Khan\, PharmD\, RPh\, Associate Director of Medical Affairs and Medical Information at Noven Pharmaceuticals.  Learn more and register \nCornell University offers free NYAS memberships to undergraduates\, graduate students\, postdocs\, staff and faculty. Learn more about how to become a member. \nActivate your account by completing the Cornell specific membership form.
URL:https://gradcareers.cornell.edu/event/nyas-chat-with-experts-featuring-mahwish-khan-pharmd-rph/
LOCATION:Webinar
CATEGORIES:Careers Beyond Academia
ATTACH;FMTTYPE=image/png:https://gradcareers.cornell.edu/wp-content/uploads/2019/08/NYAS-logo.png
END:VEVENT
END:VCALENDAR