BEGIN:VCALENDAR
VERSION:2.0
PRODID:-//Careers Beyond Academia - ECPv6.15.20//NONSGML v1.0//EN
CALSCALE:GREGORIAN
METHOD:PUBLISH
X-ORIGINAL-URL:https://gradcareers.cornell.edu
X-WR-CALDESC:Events for Careers Beyond Academia
REFRESH-INTERVAL;VALUE=DURATION:PT1H
X-Robots-Tag:noindex
X-PUBLISHED-TTL:PT1H
BEGIN:VTIMEZONE
TZID:America/New_York
BEGIN:DAYLIGHT
TZOFFSETFROM:-0500
TZOFFSETTO:-0400
TZNAME:EDT
DTSTART:20240310T070000
END:DAYLIGHT
BEGIN:STANDARD
TZOFFSETFROM:-0400
TZOFFSETTO:-0500
TZNAME:EST
DTSTART:20241103T060000
END:STANDARD
BEGIN:DAYLIGHT
TZOFFSETFROM:-0500
TZOFFSETTO:-0400
TZNAME:EDT
DTSTART:20250309T070000
END:DAYLIGHT
BEGIN:STANDARD
TZOFFSETFROM:-0400
TZOFFSETTO:-0500
TZNAME:EST
DTSTART:20251102T060000
END:STANDARD
BEGIN:DAYLIGHT
TZOFFSETFROM:-0500
TZOFFSETTO:-0400
TZNAME:EDT
DTSTART:20260308T070000
END:DAYLIGHT
BEGIN:STANDARD
TZOFFSETFROM:-0400
TZOFFSETTO:-0500
TZNAME:EST
DTSTART:20261101T060000
END:STANDARD
END:VTIMEZONE
BEGIN:VEVENT
DTSTART;TZID=America/New_York:20250228T120000
DTEND;TZID=America/New_York:20250228T130000
DTSTAMP:20260424T024725
CREATED:20250130T205823Z
LAST-MODIFIED:20250130T205823Z
UID:10002646-1740744000-1740747600@gradcareers.cornell.edu
SUMMARY:Engineering Luncheon: Entrepreneurship Networking 
DESCRIPTION:Looking for support to commercialize your technology? Cornell Engineering and the Entrepreneurs in Residence program offer connections to mentorship\, funding opportunities\, legal information\, entrepreneurship programs\, and other commercialization resources in Cornell’s robust entrepreneurial ecosystem. Open to Cornell Ph.D. candidates and postdocs in the College of Engineering only. \nJoin us for this exclusive lunchtime discussion hosted by the college’s Entrepreneurs in Residence program to learn about the resources available to you as you explore entrepreneurship and commercialization. \nCornell Engineering alumni who have leveraged college resources to found and scale successful startups will be in attendance. \nEngineering Luncheon: Entrepreneurship Networking\nFriday\, February 28 | 12:00 – 1:00 p.m. ET | Weill Hall Room 226\nLunch will be served\n \nRegister now: https://bit.ly/3Cd1C5m
URL:https://gradcareers.cornell.edu/event/engineering-luncheon-entrepreneurship-networking/
LOCATION:226 Weill Hall\, 237 Tower Road\, Ithaca\, NY\, 14853\, United States
CATEGORIES:Careers Beyond Academia
GEO:42.4468068;-76.477214
X-APPLE-STRUCTURED-LOCATION;VALUE=URI;X-ADDRESS=226 Weill Hall 237 Tower Road Ithaca NY 14853 United States;X-APPLE-RADIUS=500;X-TITLE=237 Tower Road:geo:-76.477214,42.4468068
END:VEVENT
END:VCALENDAR