BEGIN:VCALENDAR
VERSION:2.0
PRODID:-//Careers Beyond Academia - ECPv6.15.20//NONSGML v1.0//EN
CALSCALE:GREGORIAN
METHOD:PUBLISH
X-WR-CALNAME:Careers Beyond Academia
X-ORIGINAL-URL:https://gradcareers.cornell.edu
X-WR-CALDESC:Events for Careers Beyond Academia
REFRESH-INTERVAL;VALUE=DURATION:PT1H
X-Robots-Tag:noindex
X-PUBLISHED-TTL:PT1H
BEGIN:VTIMEZONE
TZID:America/New_York
BEGIN:DAYLIGHT
TZOFFSETFROM:-0500
TZOFFSETTO:-0400
TZNAME:EDT
DTSTART:20240310T070000
END:DAYLIGHT
BEGIN:STANDARD
TZOFFSETFROM:-0400
TZOFFSETTO:-0500
TZNAME:EST
DTSTART:20241103T060000
END:STANDARD
BEGIN:DAYLIGHT
TZOFFSETFROM:-0500
TZOFFSETTO:-0400
TZNAME:EDT
DTSTART:20250309T070000
END:DAYLIGHT
BEGIN:STANDARD
TZOFFSETFROM:-0400
TZOFFSETTO:-0500
TZNAME:EST
DTSTART:20251102T060000
END:STANDARD
BEGIN:DAYLIGHT
TZOFFSETFROM:-0500
TZOFFSETTO:-0400
TZNAME:EDT
DTSTART:20260308T070000
END:DAYLIGHT
BEGIN:STANDARD
TZOFFSETFROM:-0400
TZOFFSETTO:-0500
TZNAME:EST
DTSTART:20261101T060000
END:STANDARD
END:VTIMEZONE
BEGIN:VEVENT
DTSTART;TZID=America/New_York:20250205T120000
DTEND;TZID=America/New_York:20250205T160000
DTSTAMP:20260423T003103
CREATED:20250121T162409Z
LAST-MODIFIED:20250121T163516Z
UID:10002639-1738756800-1738771200@gradcareers.cornell.edu
SUMMARY:University-Wide online Career Fair
DESCRIPTION:See the list of employers\, register for sessions and connect with employers through this Handshake link. Open to all students. \nThe online University-Wide Spring Career Fair is on Wednesday\, February 5\, 12:00 pm – 4:00 pm\, \nPrepare and get the most out of the career fair\nHandshake has several articles and videos: \n\nHandshake’s Guide to Attending a Virtual Fair\nParticipating in a Virtual Fair\nView Employers Attending an Upcoming Career Fair\n\nCornell Career Services curates these Career Development Toolkit modules: \n\nPrepare for and Navigate Career Fairs\nNetworking\n\nSee also their Media Library of recorded workshops \nQuestions can be directed to\nKimberlee Swartz kms273@cornell.edu\nAssociate Director\, Manager Employer Relations \nCornell Career Services | Student & Campus Life\nCornell University\n210 Barnes Hall | Ithaca\, NY 14853\nw 607.255.7464\ncareer.cornell.edu
URL:https://gradcareers.cornell.edu/event/university-wide-online-spring-career-fair/
LOCATION:Online
CATEGORIES:Careers Beyond Academia
END:VEVENT
BEGIN:VEVENT
DTSTART;TZID=America/New_York:20250211T163000
DTEND;TZID=America/New_York:20250211T173000
DTSTAMP:20260423T003103
CREATED:20250127T204149Z
LAST-MODIFIED:20250205T193020Z
UID:10002645-1739291400-1739295000@gradcareers.cornell.edu
SUMMARY:Learn skills to address misinformation
DESCRIPTION:Join this workshop with alumna Kara Rode Webber PhD’22\, founder of Vaccination Conversations with Scientists (VaCS) on: \nAddressing Misinformation through Meaningful Conversation\nThe graduate student groups Advancing Science and Policy (ASAP) and Vaccine Conversations with Scientists (VaCS) are collaborating to hold this workshop teaching skills to address misinformation\, with a VaCS info session to follow. This will be open to the campus community and held on Feb 11th at 4:30PM in Bradfield 101. Snacks and light refreshment will be provided!
URL:https://gradcareers.cornell.edu/event/learn-skills-to-address-misinformation/
LOCATION:Bradfield Hall 101
CATEGORIES:Careers Beyond Academia
ATTACH;FMTTYPE=image/png:https://gradcareers.cornell.edu/wp-content/uploads/2021/04/ASAPlogo.png
END:VEVENT
BEGIN:VEVENT
DTSTART;TZID=America/New_York:20250220T150000
DTEND;TZID=America/New_York:20250220T160000
DTSTAMP:20260423T003103
CREATED:20250131T204054Z
LAST-MODIFIED:20250131T204054Z
UID:10002649-1740063600-1740067200@gradcareers.cornell.edu
SUMMARY:CV To Resume Workshop
DESCRIPTION:This webinar will help you target common terms used in industry\, non-profit and government jobs; basic resume structure and tips on highlighting your PhD skillsets to position YOU as the preferred job candidate. \nThis webinar is open to all PhD students and postdocs. \nTo Register \nFor more events\, please visit gradcareers.cornell.edu. \nAccessibility Requests \nWe strive to make our events accessible to all community members. Individuals who would like to request accessibility accommodations should contact gradcareers@cornell.edu. We ask that requests be made at least one week in advance to help ensure they can be met.
URL:https://gradcareers.cornell.edu/event/cv-to-resume-workshop-13/
LOCATION:Zoom
CATEGORIES:Careers Beyond Academia
END:VEVENT
BEGIN:VEVENT
DTSTART;TZID=America/New_York:20250225T120000
DTEND;TZID=America/New_York:20250225T130000
DTSTAMP:20260423T003103
CREATED:20250124T200246Z
LAST-MODIFIED:20250124T200537Z
UID:10002641-1740484800-1740488400@gradcareers.cornell.edu
SUMMARY:Science Policy Career Exploration Week
DESCRIPTION:The National Science Policy Network offers free webinars to learn about how you can be involved in affecting policies you are passionate about. Explore diverse career paths in science policy with NSPN’s four-part webinar series. Learn about positions in federal & state government\, nonprofit and private sectors. Each session will provide practical guidance and inspiration for navigating these impactful fields. \nRegister now \n\nNSPN | Science Policy Career Exploration Week\n\n\n\n\n\n\n\n\n\n\n\n\n\nFeb 25\, 2025 noon-1:00 PM\nFeb 26\, 2025 noon-1:00 PM\nFeb 27\, 2025 noon-1:00 PM\nFeb 28\, 2025 noon-1:00 PM
URL:https://gradcareers.cornell.edu/event/science-policy-career-exploration-week/2025-02-25/
LOCATION:Online
END:VEVENT
BEGIN:VEVENT
DTSTART;TZID=America/New_York:20250226T120000
DTEND;TZID=America/New_York:20250226T130000
DTSTAMP:20260423T003103
CREATED:20250124T200246Z
LAST-MODIFIED:20250124T200537Z
UID:10002642-1740571200-1740574800@gradcareers.cornell.edu
SUMMARY:Science Policy Career Exploration Week
DESCRIPTION:The National Science Policy Network offers free webinars to learn about how you can be involved in affecting policies you are passionate about. Explore diverse career paths in science policy with NSPN’s four-part webinar series. Learn about positions in federal & state government\, nonprofit and private sectors. Each session will provide practical guidance and inspiration for navigating these impactful fields. \nRegister now \n\nNSPN | Science Policy Career Exploration Week\n\n\n\n\n\n\n\n\n\n\n\n\n\nFeb 25\, 2025 noon-1:00 PM\nFeb 26\, 2025 noon-1:00 PM\nFeb 27\, 2025 noon-1:00 PM\nFeb 28\, 2025 noon-1:00 PM
URL:https://gradcareers.cornell.edu/event/science-policy-career-exploration-week/2025-02-26/
LOCATION:Online
END:VEVENT
BEGIN:VEVENT
DTSTART;TZID=America/New_York:20250227T120000
DTEND;TZID=America/New_York:20250227T130000
DTSTAMP:20260423T003103
CREATED:20250124T200246Z
LAST-MODIFIED:20250124T200537Z
UID:10002643-1740657600-1740661200@gradcareers.cornell.edu
SUMMARY:Science Policy Career Exploration Week
DESCRIPTION:The National Science Policy Network offers free webinars to learn about how you can be involved in affecting policies you are passionate about. Explore diverse career paths in science policy with NSPN’s four-part webinar series. Learn about positions in federal & state government\, nonprofit and private sectors. Each session will provide practical guidance and inspiration for navigating these impactful fields. \nRegister now \n\nNSPN | Science Policy Career Exploration Week\n\n\n\n\n\n\n\n\n\n\n\n\n\nFeb 25\, 2025 noon-1:00 PM\nFeb 26\, 2025 noon-1:00 PM\nFeb 27\, 2025 noon-1:00 PM\nFeb 28\, 2025 noon-1:00 PM
URL:https://gradcareers.cornell.edu/event/science-policy-career-exploration-week/2025-02-27/
LOCATION:Online
END:VEVENT
BEGIN:VEVENT
DTSTART;TZID=America/New_York:20250228T120000
DTEND;TZID=America/New_York:20250228T130000
DTSTAMP:20260423T003103
CREATED:20250124T200246Z
LAST-MODIFIED:20250124T200537Z
UID:10002644-1740744000-1740747600@gradcareers.cornell.edu
SUMMARY:Science Policy Career Exploration Week
DESCRIPTION:The National Science Policy Network offers free webinars to learn about how you can be involved in affecting policies you are passionate about. Explore diverse career paths in science policy with NSPN’s four-part webinar series. Learn about positions in federal & state government\, nonprofit and private sectors. Each session will provide practical guidance and inspiration for navigating these impactful fields. \nRegister now \n\nNSPN | Science Policy Career Exploration Week\n\n\n\n\n\n\n\n\n\n\n\n\n\nFeb 25\, 2025 noon-1:00 PM\nFeb 26\, 2025 noon-1:00 PM\nFeb 27\, 2025 noon-1:00 PM\nFeb 28\, 2025 noon-1:00 PM
URL:https://gradcareers.cornell.edu/event/science-policy-career-exploration-week/2025-02-28/
LOCATION:Online
END:VEVENT
BEGIN:VEVENT
DTSTART;TZID=America/New_York:20250228T120000
DTEND;TZID=America/New_York:20250228T130000
DTSTAMP:20260423T003103
CREATED:20250130T205823Z
LAST-MODIFIED:20250130T205823Z
UID:10002646-1740744000-1740747600@gradcareers.cornell.edu
SUMMARY:Engineering Luncheon: Entrepreneurship Networking 
DESCRIPTION:Looking for support to commercialize your technology? Cornell Engineering and the Entrepreneurs in Residence program offer connections to mentorship\, funding opportunities\, legal information\, entrepreneurship programs\, and other commercialization resources in Cornell’s robust entrepreneurial ecosystem. Open to Cornell Ph.D. candidates and postdocs in the College of Engineering only. \nJoin us for this exclusive lunchtime discussion hosted by the college’s Entrepreneurs in Residence program to learn about the resources available to you as you explore entrepreneurship and commercialization. \nCornell Engineering alumni who have leveraged college resources to found and scale successful startups will be in attendance. \nEngineering Luncheon: Entrepreneurship Networking\nFriday\, February 28 | 12:00 – 1:00 p.m. ET | Weill Hall Room 226\nLunch will be served\n \nRegister now: https://bit.ly/3Cd1C5m
URL:https://gradcareers.cornell.edu/event/engineering-luncheon-entrepreneurship-networking/
LOCATION:226 Weill Hall\, 237 Tower Road\, Ithaca\, NY\, 14853\, United States
CATEGORIES:Careers Beyond Academia
GEO:42.4468068;-76.477214
X-APPLE-STRUCTURED-LOCATION;VALUE=URI;X-ADDRESS=226 Weill Hall 237 Tower Road Ithaca NY 14853 United States;X-APPLE-RADIUS=500;X-TITLE=237 Tower Road:geo:-76.477214,42.4468068
END:VEVENT
END:VCALENDAR