BEGIN:VCALENDAR
VERSION:2.0
PRODID:-//Careers Beyond Academia - ECPv6.15.20//NONSGML v1.0//EN
CALSCALE:GREGORIAN
METHOD:PUBLISH
X-ORIGINAL-URL:https://gradcareers.cornell.edu
X-WR-CALDESC:Events for Careers Beyond Academia
REFRESH-INTERVAL;VALUE=DURATION:PT1H
X-Robots-Tag:noindex
X-PUBLISHED-TTL:PT1H
BEGIN:VTIMEZONE
TZID:America/New_York
BEGIN:DAYLIGHT
TZOFFSETFROM:-0500
TZOFFSETTO:-0400
TZNAME:EDT
DTSTART:20230312T070000
END:DAYLIGHT
BEGIN:STANDARD
TZOFFSETFROM:-0400
TZOFFSETTO:-0500
TZNAME:EST
DTSTART:20231105T060000
END:STANDARD
BEGIN:DAYLIGHT
TZOFFSETFROM:-0500
TZOFFSETTO:-0400
TZNAME:EDT
DTSTART:20240310T070000
END:DAYLIGHT
BEGIN:STANDARD
TZOFFSETFROM:-0400
TZOFFSETTO:-0500
TZNAME:EST
DTSTART:20241103T060000
END:STANDARD
BEGIN:DAYLIGHT
TZOFFSETFROM:-0500
TZOFFSETTO:-0400
TZNAME:EDT
DTSTART:20250309T070000
END:DAYLIGHT
BEGIN:STANDARD
TZOFFSETFROM:-0400
TZOFFSETTO:-0500
TZNAME:EST
DTSTART:20251102T060000
END:STANDARD
END:VTIMEZONE
BEGIN:VEVENT
DTSTART;TZID=America/New_York:20241209T110000
DTEND;TZID=America/New_York:20241209T123000
DTSTAMP:20260423T110023
CREATED:20241205T162741Z
LAST-MODIFIED:20241205T162741Z
UID:10002569-1733742000-1733747400@gradcareers.cornell.edu
SUMMARY:Create an Employer-Ready LinkedIn Profile
DESCRIPTION:We’ll start with a short overview presentation with pro tips on how to use LinkedIn\, some exercises to identify a good tagline\, and a very interactive session where participants work on their own profiles and critique others’ –so you will need to bring your own computer. Handy tips will be shared among participants at the hands-on session.\nDue to the interactive nature of this in-person workshop\, we will limit the number of participants to 15. So if something comes up after you register\, be sure to let us know so we can invite someone else to take your place. \nRegister via this Google form for the date that works for you with your Cornell netID.
URL:https://gradcareers.cornell.edu/event/create-an-employer-ready-linkedin-profile-9-2/
LOCATION:341 Caldwell Hall\, 121 Reservoir Avenue\, Ithaca\, NY\, 14853\, United States
CATEGORIES:Careers Beyond Academia
ATTACH;FMTTYPE=image/png:https://gradcareers.cornell.edu/wp-content/uploads/2019/08/LinkedIn-logo.png
GEO:42.4492103;-76.4782721
X-APPLE-STRUCTURED-LOCATION;VALUE=URI;X-ADDRESS=341 Caldwell Hall 121 Reservoir Avenue Ithaca NY 14853 United States;X-APPLE-RADIUS=500;X-TITLE=121 Reservoir Avenue:geo:-76.4782721,42.4492103
END:VEVENT
BEGIN:VEVENT
DTSTART;TZID=America/New_York:20241210T160000
DTEND;TZID=America/New_York:20241210T170000
DTSTAMP:20260423T110023
CREATED:20240802T195835Z
LAST-MODIFIED:20240802T195835Z
UID:10002562-1733846400-1733850000@gradcareers.cornell.edu
SUMMARY:Careers Beyond Academia Small Group Discussion
DESCRIPTION:Does your career plan need a tune-up? Join us online to find out how we can help you get the most out of Careers Beyond Academia. If you are interested in exploring your options and want to meet colleagues who are considering careers outside of a traditional tenure-track role\, sign up for a small group session. Bring your questions\, share your career aspirations and trepidations\, receive guidance on how to get started on your career search\, and specific advice on how to approach your advisor or make a career decision. We’ll exchange tips\, tricks\, and tools to efficiently explore your options\, build your skills and take action to prepare for your future. Feel free to pop in anytime during this hour that suits your schedule. ALL DISCIPLINES WELCOME!
URL:https://gradcareers.cornell.edu/event/careers-beyond-academia-small-group-discussion-6/2024-12-10/
LOCATION:Zoom
CATEGORIES:Careers Beyond Academia
ATTACH;FMTTYPE=image/png:https://gradcareers.cornell.edu/wp-content/uploads/2022/05/Screen-Shot-2021-03-10-at-00.55.19-97bR5W.tmp_.png
END:VEVENT
BEGIN:VEVENT
DTSTART;TZID=America/New_York:20241211T120000
DTEND;TZID=America/New_York:20241211T130000
DTSTAMP:20260423T110023
CREATED:20240827T205531Z
LAST-MODIFIED:20241125T165134Z
UID:10002577-1733918400-1733922000@gradcareers.cornell.edu
SUMMARY:Explore Careers Outside Academia
DESCRIPTION:In today’s day and age\, more and more postdocs and graduate students are open to the idea of careers beyond academia. Have you ever wondered how to start this transition and what are some things you need to think about before taking action? In this session\, we will talk about how to start exploring career options outside of academia and some of the thought process behind it.  Register to attend. \nPresented by Graduate School Career and Professional Development staff and aimed at Ph.D. students and postdoctoral scholars. \nPresenters: Christine Holmes\, Director of Postdoctoral Studies; and Susi Varvayanis\, Executive Director of Careers Beyond Academia
URL:https://gradcareers.cornell.edu/event/explore-careers-outside-academia-3/
LOCATION:Zoom
CATEGORIES:Careers Beyond Academia
END:VEVENT
BEGIN:VEVENT
DTSTART;TZID=America/New_York:20241212T113000
DTEND;TZID=America/New_York:20241212T130000
DTSTAMP:20260423T110023
CREATED:20241125T170309Z
LAST-MODIFIED:20241125T184409Z
UID:10002627-1734003000-1734008400@gradcareers.cornell.edu
SUMMARY:Introducing a New Confocal Microscope at the College of Veterinary Medicine
DESCRIPTION:Interact with Cornell alumnus Joe DiPietro PhD’17 and others at the upcoming Biotechnology Resource Center Seminar: Introducing a New Confocal Microscope at the College of Veterinary Medicine.  View the agenda below. Register to attend. \nWelcome and Introduction\nBecky Williams\, PhD – Director of the Biotechnology Resource Center Imaging Facility \nMaking the Most of Your New Nikon Spinning Disk Confocal\nJoe DiPietro PhD’17\, Neurobiology is an Applications Specialist at Nikon and will discuss the technology behind our facility’s new Nikon spinning disk confocal\, the applications it is best suited for\, as well as the imaging challenges that it can help you overcome. \nVisualizing Dynamic Epigenetic Changes in Embryos through Quantitative Imaging\nArunika Das\, PhD – Assistant Professor\, Dept. of Biomedical Sciences\, College of Veterinary Medicine \nLunch will be provided
URL:https://gradcareers.cornell.edu/event/introducing-a-new-confocal-microscope-at-the-college-of-veterinary-medicine/
LOCATION:Lecture Hall 3 Veterinary Research Tower\, 618 Tower Rd\, Ithaca\, NY\, 14850\, United States
CATEGORIES:Careers Beyond Academia
END:VEVENT
END:VCALENDAR