BEGIN:VCALENDAR
VERSION:2.0
PRODID:-//Careers Beyond Academia - ECPv6.15.20//NONSGML v1.0//EN
CALSCALE:GREGORIAN
METHOD:PUBLISH
X-ORIGINAL-URL:https://gradcareers.cornell.edu
X-WR-CALDESC:Events for Careers Beyond Academia
REFRESH-INTERVAL;VALUE=DURATION:PT1H
X-Robots-Tag:noindex
X-PUBLISHED-TTL:PT1H
BEGIN:VTIMEZONE
TZID:America/New_York
BEGIN:DAYLIGHT
TZOFFSETFROM:-0500
TZOFFSETTO:-0400
TZNAME:EDT
DTSTART:20240310T070000
END:DAYLIGHT
BEGIN:STANDARD
TZOFFSETFROM:-0400
TZOFFSETTO:-0500
TZNAME:EST
DTSTART:20241103T060000
END:STANDARD
BEGIN:DAYLIGHT
TZOFFSETFROM:-0500
TZOFFSETTO:-0400
TZNAME:EDT
DTSTART:20250309T070000
END:DAYLIGHT
BEGIN:STANDARD
TZOFFSETFROM:-0400
TZOFFSETTO:-0500
TZNAME:EST
DTSTART:20251102T060000
END:STANDARD
BEGIN:DAYLIGHT
TZOFFSETFROM:-0500
TZOFFSETTO:-0400
TZNAME:EDT
DTSTART:20260308T070000
END:DAYLIGHT
BEGIN:STANDARD
TZOFFSETFROM:-0400
TZOFFSETTO:-0500
TZNAME:EST
DTSTART:20261101T060000
END:STANDARD
END:VTIMEZONE
BEGIN:VEVENT
DTSTART;TZID=America/New_York:20250317T170000
DTEND;TZID=America/New_York:20250317T183000
DTSTAMP:20260422T185342
CREATED:20250306T190147Z
LAST-MODIFIED:20250306T190437Z
UID:10002656-1742230800-1742236200@gradcareers.cornell.edu
SUMMARY:Navigating Your Future: Strategies to Explore Career and Global Professional Options 
DESCRIPTION:Do you have concerns for how changes in the U.S. may impact International Graduate and Professional Students? Join us for a webinar on how to use available resources to answer your questions. Staff from across campus will be present to share practical steps focused specifically on international graduate and professional students. Register here! \nJoin via Zoom on Monday March 17\, 5:00 – 6:30 p.m.\nHosted by the Office of Global Learning in concert with the Diversity and International Students Committee-Graduate and Professional Student Assembly (DISC-GPSA)\, Counseling & Psychological Services (CAPS) | Cornell Health\, and the Graduate School Office of Career and Professional Development. \nConnect with us!\nCareers Beyond Academia LinkedIn group\nRead more: International Graduates and Postdocs Struggle with Career Confidence \nFacilitators and presenters:\nLeslie Whitcomb\, International Student Inclusion Specialist in the Office of Global Learning\nSusi Varvayanis\, Executive Director\, Careers Beyond Academia in the Graduate School Office of Career and Professional\nTBD\, TITLE\, Counseling & Psychological Services (CAPS) at Cornell Health \nAdditional co-organizers and supporters:\nAleesha George\, doctoral candidate\, Chemistry\, Diversity and International Students Committee of the Graduate and Professional Student Assembly\nZong-Yan Liu\, doctoral candidate\, SIPS Plant Breeding and Genetics\, Diversity and International Students Committee of the Graduate and Professional Student Assembly
URL:https://gradcareers.cornell.edu/event/navigating-your-future-strategies-to-explore-career-and-global-professional-options/
LOCATION:Online
CATEGORIES:Careers Beyond Academia
ATTACH;FMTTYPE=image/png:https://gradcareers.cornell.edu/wp-content/uploads/2025/03/flyer.png
END:VEVENT
BEGIN:VEVENT
DTSTART;TZID=America/New_York:20250318T150000
DTEND;TZID=America/New_York:20250318T163000
DTSTAMP:20260422T185342
CREATED:20250117T194950Z
LAST-MODIFIED:20250305T210948Z
UID:10002637-1742310000-1742315400@gradcareers.cornell.edu
SUMMARY:Strategies for Getting Published: Journal Editor Panel Discussion
DESCRIPTION:Scholarly communications can have many pathways and outcomes. Please join Cornell University Library as it hosts a moderated discussion about the peer review and publishing process focused on helping PhD candidates in engineering; animal\, life\, and physical sciences. Please bring any questions you might have. Panelists include Cornell faculty Xingen Lei (Animal Science); Karl Niklas (emeritus Plant Science); Csaba Csaki (Physics); Emmanuel Giannelis (Engineering) who are experienced journal editors\, peer reviewers and authors. \nDate: March 18 @3-4:30 pm online \nQuestions? Contact: Henrik Spoon\, <h.spoon@cornell.edu>\, Susi Varvayanis <sv27@cornell.edu> \nJoin the Cornell Library and the Graduate School’s Careers Beyond Academia to learn tips on all the steps in the editing and publishing process from a panel of experienced faculty journal editors. \nPanelists\nXingen Lei (Animal Science) \nKarl Niklas (emeritus; Plant Science) \nCsaba Csaki (Physics) \nEmmanuel Giannelis (Engineering) \nRegister and Join Zoom\nPlease register for this online only discussion. \nOrganizers and sponsors\nOrganized by Henrik Spoon Physics\, Astronomy\, and Mathematics Librarian and co-sponsored by the Graduate School’s Careers Beyond Academia. Questions can be directed to Susi Varvayanis\, Executive Director of Careers Beyond Academia.
URL:https://gradcareers.cornell.edu/event/journal-editor-panel-discussion-via-zoom/
LOCATION:Online
END:VEVENT
BEGIN:VEVENT
DTSTART;TZID=America/New_York:20250319T150000
DTEND;TZID=America/New_York:20250319T163000
DTSTAMP:20260422T185342
CREATED:20250312T165359Z
LAST-MODIFIED:20250312T165359Z
UID:10002653-1742396400-1742401800@gradcareers.cornell.edu
SUMMARY:2025 Three Minute Thesis (3MT) Competition
DESCRIPTION:Three Minute Thesis (3MT) is a competition for graduate students to develop and showcase their research communication skills. \nThe 2025 final round competition will be held in-person on Wednesday\, March 19\, 2025 in G10 Biotech. We will also offer a virtual attendance option by Zoom for those outside of Ithaca. Attend and vote for your favorite presentation for the People’s Choice Award! \n3MT challenges research degree students to present a compelling story on their dissertation or thesis and its significance in just three minutes\, in language appropriate to a non-specialist audience. In addition to the first place and second place winners from among the finalists\, audience members on March 20 will be asked to select a People’s Choice Award Winner. \nEvent registration is open.
URL:https://gradcareers.cornell.edu/event/2025-three-minute-thesis-3mt-competition/
LOCATION:G10 Biotechnology Building\, 526 Campus Road\, Ithaca\, NY\, 14853\, United States
CATEGORIES:Careers Beyond Academia,Future Faculty and Academic Careers
ATTACH;FMTTYPE=image/png:https://gradcareers.cornell.edu/wp-content/uploads/2024/02/3MT-Logo_RGB-4Y6Yn9.tmp_.png
GEO:42.4465542;-76.4783618
X-APPLE-STRUCTURED-LOCATION;VALUE=URI;X-ADDRESS=G10 Biotechnology Building 526 Campus Road Ithaca NY 14853 United States;X-APPLE-RADIUS=500;X-TITLE=526 Campus Road:geo:-76.4783618,42.4465542
END:VEVENT
END:VCALENDAR