BEGIN:VCALENDAR
VERSION:2.0
PRODID:-//Careers Beyond Academia - ECPv6.15.20//NONSGML v1.0//EN
CALSCALE:GREGORIAN
METHOD:PUBLISH
X-ORIGINAL-URL:https://gradcareers.cornell.edu
X-WR-CALDESC:Events for Careers Beyond Academia
REFRESH-INTERVAL;VALUE=DURATION:PT1H
X-Robots-Tag:noindex
X-PUBLISHED-TTL:PT1H
BEGIN:VTIMEZONE
TZID:America/New_York
BEGIN:DAYLIGHT
TZOFFSETFROM:-0500
TZOFFSETTO:-0400
TZNAME:EDT
DTSTART:20240310T070000
END:DAYLIGHT
BEGIN:STANDARD
TZOFFSETFROM:-0400
TZOFFSETTO:-0500
TZNAME:EST
DTSTART:20241103T060000
END:STANDARD
BEGIN:DAYLIGHT
TZOFFSETFROM:-0500
TZOFFSETTO:-0400
TZNAME:EDT
DTSTART:20250309T070000
END:DAYLIGHT
BEGIN:STANDARD
TZOFFSETFROM:-0400
TZOFFSETTO:-0500
TZNAME:EST
DTSTART:20251102T060000
END:STANDARD
BEGIN:DAYLIGHT
TZOFFSETFROM:-0500
TZOFFSETTO:-0400
TZNAME:EDT
DTSTART:20260308T070000
END:DAYLIGHT
BEGIN:STANDARD
TZOFFSETFROM:-0400
TZOFFSETTO:-0500
TZNAME:EST
DTSTART:20261101T060000
END:STANDARD
END:VTIMEZONE
BEGIN:VEVENT
DTSTART;TZID=America/New_York:20250415T180000
DTEND;TZID=America/New_York:20250415T193000
DTSTAMP:20260422T222604
CREATED:20250415T142056Z
LAST-MODIFIED:20250415T142056Z
UID:10002660-1744740000-1744745400@gradcareers.cornell.edu
SUMMARY:Navigating Your Career Pivot: Opportunities in Science Nonprofits
DESCRIPTION:Presented by the New York Academy of Sciences’ Chief Scientific Officer\, Brooke Grindlinger\,PhD\, this dynamic workshop is intended to help early-career scientists (graduate students\, postdocs\, faculty) transition to and learn about nonprofit roles\, identify applicable skills in their repertoire\, help them determine strategies to fill skill gaps\, and ultimately provide the tools needed to investigate long-term career opportunities within nonprofits. \nRegister to attend.
URL:https://gradcareers.cornell.edu/event/navigating-your-career-pivot-opportunities-in-science-nonprofits/
LOCATION:Webinar
CATEGORIES:Careers Beyond Academia
END:VEVENT
END:VCALENDAR