BEGIN:VCALENDAR
VERSION:2.0
PRODID:-//Careers Beyond Academia - ECPv6.15.20//NONSGML v1.0//EN
CALSCALE:GREGORIAN
METHOD:PUBLISH
X-WR-CALNAME:Careers Beyond Academia
X-ORIGINAL-URL:https://gradcareers.cornell.edu
X-WR-CALDESC:Events for Careers Beyond Academia
REFRESH-INTERVAL;VALUE=DURATION:PT1H
X-Robots-Tag:noindex
X-PUBLISHED-TTL:PT1H
BEGIN:VTIMEZONE
TZID:America/New_York
BEGIN:DAYLIGHT
TZOFFSETFROM:-0500
TZOFFSETTO:-0400
TZNAME:EDT
DTSTART:20240310T070000
END:DAYLIGHT
BEGIN:STANDARD
TZOFFSETFROM:-0400
TZOFFSETTO:-0500
TZNAME:EST
DTSTART:20241103T060000
END:STANDARD
BEGIN:DAYLIGHT
TZOFFSETFROM:-0500
TZOFFSETTO:-0400
TZNAME:EDT
DTSTART:20250309T070000
END:DAYLIGHT
BEGIN:STANDARD
TZOFFSETFROM:-0400
TZOFFSETTO:-0500
TZNAME:EST
DTSTART:20251102T060000
END:STANDARD
BEGIN:DAYLIGHT
TZOFFSETFROM:-0500
TZOFFSETTO:-0400
TZNAME:EDT
DTSTART:20260308T070000
END:DAYLIGHT
BEGIN:STANDARD
TZOFFSETFROM:-0400
TZOFFSETTO:-0500
TZNAME:EST
DTSTART:20261101T060000
END:STANDARD
END:VTIMEZONE
BEGIN:VEVENT
DTSTART;TZID=America/New_York:20250514T180000
DTEND;TZID=America/New_York:20250514T200000
DTSTAMP:20260422T185231
CREATED:20250415T144611Z
LAST-MODIFIED:20250415T144611Z
UID:10002661-1747245600-1747252800@gradcareers.cornell.edu
SUMMARY:NYAS Spring Speed Networking (NYC)
DESCRIPTION:Expand your network and forge meaningful connections with other STEM professionals through a structured networking activity\, followed by open mingling with complimentary refreshments. Whether you are a seasoned professional\, student\, a startup founder\, or just looking to meet new people\, this event offers a perfect opportunity to connect with a variety of like-minded STEM professionals in a structured\, time-efficient format. \nHosted by the New York Academy of Sciences.  This is an in-person event held in New York City.  Register to attend.
URL:https://gradcareers.cornell.edu/event/nyas-spring-speed-networking-nyc/
LOCATION:The New York Academy of Sciences\, 115 Broadway\, 8th Floor\, New York\, NY\, 10006\, United States
END:VEVENT
BEGIN:VEVENT
DTSTART;TZID=America/New_York:20250515T130000
DTEND;TZID=America/New_York:20250515T140000
DTSTAMP:20260422T185231
CREATED:20250415T145117Z
LAST-MODIFIED:20250415T145117Z
UID:10002662-1747314000-1747317600@gradcareers.cornell.edu
SUMMARY:NYAS Chat with Astronomer Munazza Alam
DESCRIPTION:Are you interested in building a career in STEM? Join The New York Academy of Sciences for an exciting monthly online event series designed to explore the vast opportunities within STEM fields. This series offers unique access to experts across industries. \nEach session features guest speakers from distinguished organizations\, including Noven Pharmaceuticals\, Pfizer\, and more. Gain invaluable insights into their career journeys\, the roles they hold today\, and the innovative work they do. \nEngage in live Q&A sessions to ask questions that will help shape your own career path. Whether actively pursuing a STEM career or simply exploring possibilities\, this event series provides the tools and knowledge you need to succeed. \nThis series is open to all\, regardless of age or background\, and is the perfect opportunity to network and learn. Don’t miss your chance to connect with leading STEM professionals and take the next step in your career journey! \nThis is the eighth session in the Chat with Experts series\, and it will feature Munazza Alam\, PhD\, Assistant Astronomer at the Space Telescope Science Institute (STSCI) \nDr. Munazza Alam is an astronomer\, National Geographic Young Explorer\, and staff scientist at the Space Telescope Science Institute in Baltimore\, MD. Munazza uses data from the Hubble and James Webb Space Telescopes for her research\, as well as world-class ground-based facilities at the Mauna Kea Observatories in Hawai’i and the Las Campanas Observatory in Chile.
URL:https://gradcareers.cornell.edu/event/nyas-chat-with-astronomer-munazza-alam/
LOCATION:Webinar
CATEGORIES:Careers Beyond Academia
ATTACH;FMTTYPE=image/png:https://gradcareers.cornell.edu/wp-content/uploads/2019/08/NYAS-logo.png
END:VEVENT
END:VCALENDAR