BEGIN:VCALENDAR
VERSION:2.0
PRODID:-//Careers Beyond Academia - ECPv6.15.20//NONSGML v1.0//EN
CALSCALE:GREGORIAN
METHOD:PUBLISH
X-ORIGINAL-URL:https://gradcareers.cornell.edu
X-WR-CALDESC:Events for Careers Beyond Academia
REFRESH-INTERVAL;VALUE=DURATION:PT1H
X-Robots-Tag:noindex
X-PUBLISHED-TTL:PT1H
BEGIN:VTIMEZONE
TZID:America/New_York
BEGIN:DAYLIGHT
TZOFFSETFROM:-0500
TZOFFSETTO:-0400
TZNAME:EDT
DTSTART:20240310T070000
END:DAYLIGHT
BEGIN:STANDARD
TZOFFSETFROM:-0400
TZOFFSETTO:-0500
TZNAME:EST
DTSTART:20241103T060000
END:STANDARD
BEGIN:DAYLIGHT
TZOFFSETFROM:-0500
TZOFFSETTO:-0400
TZNAME:EDT
DTSTART:20250309T070000
END:DAYLIGHT
BEGIN:STANDARD
TZOFFSETFROM:-0400
TZOFFSETTO:-0500
TZNAME:EST
DTSTART:20251102T060000
END:STANDARD
BEGIN:DAYLIGHT
TZOFFSETFROM:-0500
TZOFFSETTO:-0400
TZNAME:EDT
DTSTART:20260308T070000
END:DAYLIGHT
BEGIN:STANDARD
TZOFFSETFROM:-0400
TZOFFSETTO:-0500
TZNAME:EST
DTSTART:20261101T060000
END:STANDARD
END:VTIMEZONE
BEGIN:VEVENT
DTSTART;TZID=America/New_York:20251022T120000
DTEND;TZID=America/New_York:20251022T133000
DTSTAMP:20260420T161427
CREATED:20250813T143730Z
LAST-MODIFIED:20251023T155843Z
UID:10002690-1761134400-1761139800@gradcareers.cornell.edu
SUMMARY:Cubist / Point 72 lunch and learn with PhDs
DESCRIPTION:Interested in the world of quant finance? Join Cubist Systematic Strategies for a Q&A panel over lunch with PhDs. They will be hosting a Lunch and Learn on Wed\, October 22nd in Biotech G01. Learn more via this link in Handshake to meet with researchers and recruiters\, learn more about internship and full-time opportunities at Cubist\, pick up the latest swag\, and of course enjoy lunch! Spots are limited. Please do not sign up if you are not in a PhD program or are a postdoc. \nMeet Cornell doctoral alumni Pascal Tomecek PhD’07 and Yujia Zhang BA’19\, PhD’24 and Cubist campus recruiter Hali Simons. \nTarget audience\nDoctoral students and postdocs from any quantitative field including STAT\, MATH\, CS\, Physics\, ORIE\, and Applied Math who have an interest in applying their problem solving skills beyond academia through data. \nAbout Cubist Systematic Strategies\nCubist designs and implements systematic\, computer-driven trading strategies based on rigorous research to invest across multiple liquid asset classes. Our teams around the world develop their investment theses from our extensive access to a wide range of publicly available data. Our colleagues come from other firms\, related fields\, and directly from academia. Whatever your background\, here we all share a passion for problem solving\, strong technical skills\, and a commitment to the highest professional and ethical standards. \nThis event represents a partnership between Cubist Systemic Strategies\, Engineering Recruiting and Careers Beyond Academia in the Graduate School. \nSign up now!
URL:https://gradcareers.cornell.edu/event/cubist-point72/
LOCATION:Biotechnology Building\, G01\, Ithaca\, NY\, 14853\, United States
CATEGORIES:Careers Beyond Academia
END:VEVENT
BEGIN:VEVENT
DTSTART;TZID=America/New_York:20251023T114500
DTEND;TZID=America/New_York:20251023T130000
DTSTAMP:20260420T161427
CREATED:20251007T205731Z
LAST-MODIFIED:20251007T205731Z
UID:10002719-1761219900-1761224400@gradcareers.cornell.edu
SUMMARY:Innovation & Eship Workshop: Great Value Propositions
DESCRIPTION:Your value proposition communicates the unique benefits your product or service provides customers\, especially compared to your competitors. A successful entrepreneur builds their business strategy around an excellent value proposition\, attracting customers and investors by proving their product-market fit. \nHow do you create a compelling value proposition? Attend this free workshop to find out! \nModerated by Cornell Entrepreneur in Residence Brad Treat\, MBA’02 the panel discussion will feature: \n\nSusan Fleming\, MS’08\, PhD’10 Cornell Entrepreneur in Residence and former senior lecturer in the Nolan School of Hotel Administration\nAmy Cheney\, MBA Cornell Entrepreneur in Residence\nPeter Mintun\, BA’14 Associate at ARCH Venture Partners\, PhD in Molecular Engineering\n\nRegister Now\nContact: \nQuestions? Contact crea@cornell.edu \nAccessibility: \nPlease contact crea@cornell.edu at least one week prior to the event with any accessibility needs. \nAgreement: \nBy registering for this event\, you acknowledge and agree to our Privacy Policy and Terms & Conditions. \nTell us what you think: \nWe welcome thoughts and feedback anytime. If you have a comment now or would like to share feedback after the event\, share it here.
URL:https://gradcareers.cornell.edu/event/innovation-eship-workshop-great-value-propositions/
LOCATION:Online
CATEGORIES:Careers Beyond Academia
END:VEVENT
BEGIN:VEVENT
DTSTART;TZID=America/New_York:20251024T090000
DTEND;TZID=America/New_York:20251024T160000
DTSTAMP:20260420T161427
CREATED:20251020T131142Z
LAST-MODIFIED:20251020T131142Z
UID:10002721-1761296400-1761321600@gradcareers.cornell.edu
SUMMARY:Cornell Sports Research Conference IV
DESCRIPTION:The Cornell Sports Research Conference (CSRC) allows students to share sports-related research while networking with industry experts\, professional athletes and academic experts. Research topics are interdisciplinary\, addressing areas such as action anticipation\, analytics\, architecture\, artificial intelligence\, collective bargaining\, economics\, interaction inference\, law\, psychology\, sociology\, turf science and more related fields in sports. Conference IV on October 24\, 2025 will feature research by students and faculty from inside and outside Cornell in addition to panel discussions\, industry roundtables and sports technology demonstrations. \nSample of employers attending: \n\nOak View Group\nCAA\nAtlanta Hawks\nMLB\nNFL\nNHL\nMets\nGlobal Critical Logistics\nNY Islanders\nHBSE Harris Blitzer Sports and Entertainment\n\nAttendee Registration \n\n\n\n\n\n\n\n 
URL:https://gradcareers.cornell.edu/event/cornell-sports-research-conference-iv/
LOCATION:Physical Sciences Building\, 245 East Ave\, Ithaca\, NY\, 14853\, United States
ATTACH;FMTTYPE=image/png:https://gradcareers.cornell.edu/wp-content/uploads/2025/10/CSRC-IV-Billboard.png
GEO:42.449856;-76.4818233
X-APPLE-STRUCTURED-LOCATION;VALUE=URI;X-ADDRESS=Physical Sciences Building 245 East Ave Ithaca NY 14853 United States;X-APPLE-RADIUS=500;X-TITLE=245 East Ave:geo:-76.4818233,42.449856
END:VEVENT
END:VCALENDAR