BEGIN:VCALENDAR
VERSION:2.0
PRODID:-//Careers Beyond Academia - ECPv6.15.20//NONSGML v1.0//EN
CALSCALE:GREGORIAN
METHOD:PUBLISH
X-WR-CALNAME:Careers Beyond Academia
X-ORIGINAL-URL:https://gradcareers.cornell.edu
X-WR-CALDESC:Events for Careers Beyond Academia
REFRESH-INTERVAL;VALUE=DURATION:PT1H
X-Robots-Tag:noindex
X-PUBLISHED-TTL:PT1H
BEGIN:VTIMEZONE
TZID:America/New_York
BEGIN:DAYLIGHT
TZOFFSETFROM:-0500
TZOFFSETTO:-0400
TZNAME:EDT
DTSTART:20240310T070000
END:DAYLIGHT
BEGIN:STANDARD
TZOFFSETFROM:-0400
TZOFFSETTO:-0500
TZNAME:EST
DTSTART:20241103T060000
END:STANDARD
BEGIN:DAYLIGHT
TZOFFSETFROM:-0500
TZOFFSETTO:-0400
TZNAME:EDT
DTSTART:20250309T070000
END:DAYLIGHT
BEGIN:STANDARD
TZOFFSETFROM:-0400
TZOFFSETTO:-0500
TZNAME:EST
DTSTART:20251102T060000
END:STANDARD
BEGIN:DAYLIGHT
TZOFFSETFROM:-0500
TZOFFSETTO:-0400
TZNAME:EDT
DTSTART:20260308T070000
END:DAYLIGHT
BEGIN:STANDARD
TZOFFSETFROM:-0400
TZOFFSETTO:-0500
TZNAME:EST
DTSTART:20261101T060000
END:STANDARD
END:VTIMEZONE
BEGIN:VEVENT
DTSTART;TZID=America/New_York:20251029T120000
DTEND;TZID=America/New_York:20251029T130000
DTSTAMP:20260420T161410
CREATED:20250821T045459Z
LAST-MODIFIED:20250821T045459Z
UID:10002695-1761739200-1761742800@gradcareers.cornell.edu
SUMMARY:Lab to Impact series
DESCRIPTION:This fall\, the Center for Technology Licensing (CTL) invites you to Lab to Impact\, an educational series designed to help Cornell researchers\, inventors\, and partners take their innovations from lab to marketplace. \nWe’re starting the season with a foundational session focused on intellectual property and the full journey of technology commercialization. Whether you’re new to IP or already navigating disclosure\, this virtual session will offer tools\, examples\, and guidance tailored to Cornell innovators. \nWhat you’ll learn \n🗺️ The commercialization roadmap: Understand the full lifecycle — from invention disclosure to licensing and beyond. \n💡 IP fundamentals\, simplified: Get grounded in patents\, trademarks\, copyrights\, and trade secrets. \n✨ Telling the story of your tech: Learn how CTL positions innovations to attract licensees\, collaborators\, and investors. \n🤝 How CTL supports your journey: Hear directly from CTL leadership about the resources available to help bring your work to the world. \nAbout the Series \nExplore real-world paths to impact this fall\, with sessions grounded in Cornell’s 13 technology pillars and led by internal and external experts: \n\nMonday\, Sept. 15: Understanding the Technology Commercialization Process\nWednesday\, Oct. 29:From Idea to Prototyping and Design in Medical Devices\nTuesday\, Nov. 18:The Path to Commercializing Semiconductor Technology\nTuesday\, Dec. 16:Realizing Impact through Commercialization
URL:https://gradcareers.cornell.edu/event/lab-to-impact-series/2025-10-29/
LOCATION:Online
CATEGORIES:Careers Beyond Academia
END:VEVENT
END:VCALENDAR