BEGIN:VCALENDAR
VERSION:2.0
PRODID:-//Careers Beyond Academia - ECPv6.15.20//NONSGML v1.0//EN
CALSCALE:GREGORIAN
METHOD:PUBLISH
X-ORIGINAL-URL:https://gradcareers.cornell.edu
X-WR-CALDESC:Events for Careers Beyond Academia
REFRESH-INTERVAL;VALUE=DURATION:PT1H
X-Robots-Tag:noindex
X-PUBLISHED-TTL:PT1H
BEGIN:VTIMEZONE
TZID:America/New_York
BEGIN:DAYLIGHT
TZOFFSETFROM:-0500
TZOFFSETTO:-0400
TZNAME:EDT
DTSTART:20240310T070000
END:DAYLIGHT
BEGIN:STANDARD
TZOFFSETFROM:-0400
TZOFFSETTO:-0500
TZNAME:EST
DTSTART:20241103T060000
END:STANDARD
BEGIN:DAYLIGHT
TZOFFSETFROM:-0500
TZOFFSETTO:-0400
TZNAME:EDT
DTSTART:20250309T070000
END:DAYLIGHT
BEGIN:STANDARD
TZOFFSETFROM:-0400
TZOFFSETTO:-0500
TZNAME:EST
DTSTART:20251102T060000
END:STANDARD
BEGIN:DAYLIGHT
TZOFFSETFROM:-0500
TZOFFSETTO:-0400
TZNAME:EDT
DTSTART:20260308T070000
END:DAYLIGHT
BEGIN:STANDARD
TZOFFSETFROM:-0400
TZOFFSETTO:-0500
TZNAME:EST
DTSTART:20261101T060000
END:STANDARD
END:VTIMEZONE
BEGIN:VEVENT
DTSTART;TZID=America/New_York:20250425T090000
DTEND;TZID=America/New_York:20250425T101500
DTSTAMP:20260422T220656
CREATED:20250416T155117Z
LAST-MODIFIED:20250416T183402Z
UID:10002665-1745571600-1745576100@gradcareers.cornell.edu
SUMMARY:Panel of NYS Science Policy Fellows
DESCRIPTION:Join the discussion with the Deputy Director of the Rockefeller Institute’s NYS Science Policy Fellows organized by the Graduate Student run organization Advancing Science and Policy (ASAP) in collaboration with Careers Beyond Academia and CoRGI  (Chemists for Outreach and Graduate Inclusion). \nThe 2024-26 Science Policy Fellows are the inaugural cohort of the New York State Science Policy Fellowship. The fellows are placed in important roles in the state’s executive agencies and with the legislature. Through their work\, they will lend their technical and scientific expertise to policymakers while developing hands-on experience in state government. \nSpeakers\nLaura Rabinow\, Deputy Director of Research\, Rockefeller Institute of Government\nCurrent NYS Science Policy Fellows:\nEmily Laurilliard PhD’24\nMegan Cassingham\nAnqesha Murray \nThis event is for graduate students and postdocs to meet and learn from Science Policy Fellows and the deputy director of the Rockefeller Institute’s NYS Science Policy Fellowship. It will be held April 25 @9am-10:15am in 700 Clark Hall. Coffee and breakfast provided! In addition\, small discussion groups with the fellows will be held throughout the day by sign-up. \nScan the QR codes in the flyer below to RSVP and sign up for a small group meeting.. \n \nGo to Campus Groups for more.
URL:https://gradcareers.cornell.edu/event/panel-of-nys-science-and-technology-fellows/
LOCATION:Clark Hall\, Room 700\, 142 Sciences Drive\, Ithaca\, NY\, 14850\, United States
CATEGORIES:Careers Beyond Academia
ATTACH;FMTTYPE=image/png:https://gradcareers.cornell.edu/wp-content/uploads/2025/04/Screenshot-2025-04-16-at-11.37.20.png
GEO:42.4497606;-76.4812001
X-APPLE-STRUCTURED-LOCATION;VALUE=URI;X-ADDRESS=Clark Hall Room 700 142 Sciences Drive Ithaca NY 14850 United States;X-APPLE-RADIUS=500;X-TITLE=142 Sciences Drive:geo:-76.4812001,42.4497606
END:VEVENT
END:VCALENDAR