BEGIN:VCALENDAR
VERSION:2.0
PRODID:-//Careers Beyond Academia - ECPv6.15.20//NONSGML v1.0//EN
CALSCALE:GREGORIAN
METHOD:PUBLISH
X-WR-CALNAME:Careers Beyond Academia
X-ORIGINAL-URL:https://gradcareers.cornell.edu
X-WR-CALDESC:Events for Careers Beyond Academia
REFRESH-INTERVAL;VALUE=DURATION:PT1H
X-Robots-Tag:noindex
X-PUBLISHED-TTL:PT1H
BEGIN:VTIMEZONE
TZID:America/New_York
BEGIN:DAYLIGHT
TZOFFSETFROM:-0500
TZOFFSETTO:-0400
TZNAME:EDT
DTSTART:20190310T070000
END:DAYLIGHT
BEGIN:STANDARD
TZOFFSETFROM:-0400
TZOFFSETTO:-0500
TZNAME:EST
DTSTART:20191103T060000
END:STANDARD
BEGIN:DAYLIGHT
TZOFFSETFROM:-0500
TZOFFSETTO:-0400
TZNAME:EDT
DTSTART:20200308T070000
END:DAYLIGHT
BEGIN:STANDARD
TZOFFSETFROM:-0400
TZOFFSETTO:-0500
TZNAME:EST
DTSTART:20201101T060000
END:STANDARD
BEGIN:DAYLIGHT
TZOFFSETFROM:-0500
TZOFFSETTO:-0400
TZNAME:EDT
DTSTART:20210314T070000
END:DAYLIGHT
BEGIN:STANDARD
TZOFFSETFROM:-0400
TZOFFSETTO:-0500
TZNAME:EST
DTSTART:20211107T060000
END:STANDARD
BEGIN:DAYLIGHT
TZOFFSETFROM:-0500
TZOFFSETTO:-0400
TZNAME:EDT
DTSTART:20220313T070000
END:DAYLIGHT
BEGIN:STANDARD
TZOFFSETFROM:-0400
TZOFFSETTO:-0500
TZNAME:EST
DTSTART:20221106T060000
END:STANDARD
END:VTIMEZONE
BEGIN:VEVENT
DTSTART;TZID=America/New_York:20210902T170000
DTEND;TZID=America/New_York:20210902T180000
DTSTAMP:20260423T075732
CREATED:20210827T205723Z
LAST-MODIFIED:20250109T233457Z
UID:10002154-1630602000-1630605600@gradcareers.cornell.edu
SUMMARY:What is consulting?
DESCRIPTION:Join this upcoming informational session to discuss the Cornell Graduate Consulting Club and the Associate program on Thursday\, Sept. 2 from 5-6 PM. Please fill out the form here and a zoom link will be sent out to you. We look forward to seeing you in CGCC! \nJoin the CGCC Info Session\nTopic: CGCC Info Session\nTime: Sep 2\, 2021 05:00 PM Eastern Time (US and Canada) \nJoin Zoom Meeting\nhttps://cornell.zoom.us/j/96410474529?pwd=Vkp1dE1lMzVNU045QkxrUWRVQUp1Zz09 \nMeeting ID: 964 1047 4529\nPasscode: 799071 \nAbout the Cornell Graduate Consulting Club (CGCC)\nThe Cornell Graduate Consulting Club is open to all graduate students who are interested in a career in consulting. Join alumni panels and workshops to help you know more about life as a Consultant and how to prepare for interviews. Apply to be an Associate in the fall to help organize events and assist in consulting projects. If you are interested in future events and/or joining as an Associate\, please subscribe to the CGCC mailing list and apply via the website. \nTo join the mailing list\, send an email with the single word “join” in the title to cgcc-l-request@cornell.edu. \nLearn more about the executive board of CGCC. Randy L. Allen\, senior lecturer of management\, and consultant in residence at the SC Johnson Graduate School of Management; and Susi Varvayanis\, Executive Director of Cornell’s Graduate School university-wide initiative Careers Beyond Academia\, serve as advisors to the club.
URL:https://gradcareers.cornell.edu/event/what-is-consulting/
CATEGORIES:Careers Beyond Academia
END:VEVENT
BEGIN:VEVENT
DTSTART;TZID=America/New_York:20210827T160000
DTEND;TZID=America/New_York:20210827T170000
DTSTAMP:20260423T075732
CREATED:20210823T193922Z
LAST-MODIFIED:20250109T233222Z
UID:10001828-1630080000-1630083600@gradcareers.cornell.edu
SUMMARY:Consider a Career in Consulting
DESCRIPTION:Join the upcoming informational session to discuss the Cornell Graduate Consulting Club and the Associate program on Friday\, August 27th from 4-5 PM. Susi Varvayanis\, Executive Director of Cornell’s Graduate School university-wide initiative Careers Beyond Academia\, will be joining us during this meeting to discuss the resources that are available to graduate students through this program as well. Please fill out the form here and a zoom link will be sent out to you. We look forward to seeing you in CGCC! \nThe Cornell Graduate Consulting Club is open to all graduate students who are interested in a career in consulting. Join alumni panels and workshops to help you know more about life as a Consultant and how to prepare for interviews. Apply to be an Associate in the fall to help organize events and assist in consulting projects. If you are interested in future events and/or joining as an Associate\, please subscribe to the CGCC mailing list and apply via the website. \nTo join the mailing list\, send an email with the single word “join” in the title to cgcc-l-request@cornell.edu.
URL:https://gradcareers.cornell.edu/event/consider-a-career-in-consulting/
CATEGORIES:Careers Beyond Academia
END:VEVENT
BEGIN:VEVENT
DTSTART;TZID=America/New_York:20200507T173000
DTEND;TZID=America/New_York:20200507T183000
DTSTAMP:20260423T075732
CREATED:20200430T222559Z
LAST-MODIFIED:20201105T150615Z
UID:10002020-1588872600-1588876200@gradcareers.cornell.edu
SUMMARY:How to Prepare for Behavioral Interviews
DESCRIPTION: Describe a time you had to lead a team through a difficult challenge.\nTell me about a time when you faced an ethical dilemma\, and how you managed it.\nTell me about a time when you had to deal with a difficult client. What did you learn from the experience? What would you do differently?\n\nDo these questions seem challenging? Maybe you have a rough idea and are plain curious on how to structure them better? If your answer to any of the above is Yes\, then do join us for an hour-long\, hands-on workshop\, where we’ll guide you through this pivotal leg of the consulting interview process\, discuss proven strategies\, tackle similar questions and even practice questions you have! \nLed by the been-there-done-that members of CGCC who successfully navigated this step in their interview process with MBB\, we will: \n\nReview the structure of the behavioral interview\nShare textbook strategies and execution methodologies\nIntroduce key skills to demonstrate to your interviewer\, and\nProvide resources to take with you on your recruitment journey.\n\nWe envision an interactive session where you’ll get a chance to brainstorm real interview questions. We invite you to share your Top 3 questions that you’d like for us to cover! Please email these to cgcc-l@cornell.edu by 5th May\, so we can incorporate them into our content! \nZoom Meeting Link
URL:https://gradcareers.cornell.edu/event/how-to-prepare-for-behavioral-interviews/
LOCATION:Zoom
CATEGORIES:Careers Beyond Academia
END:VEVENT
END:VCALENDAR